{
 "currentVersion": 10.91,
 "serviceDescription": "The Combined: Biodiversity values and representativeness v1.0 raster (250 m resolution) represents relative scores across terrestrial Australia categorised into percentile-based thresholds that highlight areas of comparatively higher importance to protect. It was generated using a reproducible MCDA workflow implemented in Python and ArcGIS Pro. The workflow includes: Criterion 1: Integrated species diversity, endemism, threatened species and ecosystems, habitat connectivity, and ecosystem services. Inputs included national biodiversity datasets and ecological integrity indicators (e.g. Habitat Condition Assessment System (HCAS), National Connectivity Index (NCI). Criterion 2: Applied Comprehensive, Adequate and Representative (CAR) principles to assess ecosystem representation and protection across IBRA regions using National Vegetation Information System (NVIS) MVGs and the Collaborative Australia Protected Areas Database. Combined: Criteria 1 and 2 were combined by summing the scores of each layer and converted to be out of 100. Values in Criterion\u202f1 that were between 0 and 49% (0 to 49% category) were excluded from the model before combining Criterion 1 and 2 layers. The excluded values were assigned a value of 6000 to allow easy identification. Note: The excluded values do not contribute to either Criterion\u202f1 or Criterion\u202f2 in the final combined surface. The final raster reflects areas where the above criteria are met with scores of biodiversity values and representativeness out of 1000. Higher scores represent areas with higher biodiversity values and low representativeness and protection. Protected areas are assigned a value of 4000 and excluded values are assigned a value of 6000. Identifying biodiversity value and potential to enhance the representativeness of Australia\u2019s Protected Areas using Multi-Criteria Decision Analysis Version 1.0. that describes the data and methods is available at: https://erin.maps.arcgis.com/home/item.html?id=6510ec40d81c43cda8d44e86b81adce2Criterion 1 Inputs: 1. Species diversity Plant diversity spatial layers for Australia (250m) Community-level diversity layers for Australia - Bird Richness, Reptile Richness and Fungi Richness (250m) 2. Regional endemismSpecies of National Environmental Significance \u2013 GDB (1km) Interim Biogeographic Regionalisation for Australia - Subregion 3. Habitat for threatened ecological communities and threatened and migratory speciesDensity of indicative threatened ecological community distributions (1km) Density of threatened and migratory species habitat distributions (1km) 4. Severely threatened species and ecological communities Species of National Environmental Significance \u2013 GDB (1km) Ecological Communities of National Environmental Significance Distributions\u2013 GDB (1km) 5. Ecosystem servicesHCAS Optimised SLGA Products - Available Volumetric Water Capacity to 1m (250m) HCAS Optimised SLGA Products Topsoil & Subsoil Aggregated Soil Attribute Surfaces for Total nitrogen, Total phosphorous and Soil organic carbon (250m) 6. Habitat condition and connectivityHabitat Condition Assessment System (HCAS) 1988 to 2024 (90m) National Connectivity Index (NCI) 1988 to 2024 (90m) Criterion 2 Inputs: Interim Biogeographic Regionalisation for Australia - Regions Interim Biogeographic Regionalisation for Australia - Subregions National Vegetation Information System Pre -1750 MVG (100m) National Vegetation Information System Extant MVG (100m) Collaborative Australian Protected Areas Database - Terrestrial Caveats The analysis only uses national data, which may have variable quality and availability across the country. Some of this data is derived from models with their own inherent uncertainty and levels of accuracy that should be considered when using this output. Outputs of this analysis should be considered alongside regional and/or local scale information, particularly when incorporated in the decision-making process. Species distribution models were used to derive multiple input datasets used in this analysis (e.g. species density and regional endemism). These datasets represent different information and use different methodology to derive results. This analysis uses the published Collaborative Australian Protected Areas Database 2024, which does not include areas protected since 30 June 2024. There are caveats associated with the datasets used in this analysis. Please refer to individual datasets for further information.",
 "name": "biodiversity/Combined_Biodiversity_values_and_representativeness_v1",
 "description": "The Combined: Biodiversity values and representativeness v1.0 raster (250 m resolution) represents relative scores across terrestrial Australia categorised into percentile-based thresholds that highlight areas of comparatively higher importance to protect. It was generated using a reproducible MCDA workflow implemented in Python and ArcGIS Pro. The workflow includes: Criterion 1: Integrated species diversity, endemism, threatened species and ecosystems, habitat connectivity, and ecosystem services. Inputs included national biodiversity datasets and ecological integrity indicators (e.g. Habitat Condition Assessment System (HCAS), National Connectivity Index (NCI). Criterion 2: Applied Comprehensive, Adequate and Representative (CAR) principles to assess ecosystem representation and protection across IBRA regions using National Vegetation Information System (NVIS) MVGs and the Collaborative Australia Protected Areas Database. Combined: Criteria 1 and 2 were combined by summing the scores of each layer and converted to be out of 100. Values in Criterion\u202f1 that were between 0 and 49% (0 to 49% category) were excluded from the model before combining Criterion 1 and 2 layers. The excluded values were assigned a value of 6000 to allow easy identification. Note: The excluded values do not contribute to either Criterion\u202f1 or Criterion\u202f2 in the final combined surface. The final raster reflects areas where the above criteria are met with scores of biodiversity values and representativeness out of 1000. Higher scores represent areas with higher biodiversity values and low representativeness and protection. Protected areas are assigned a value of 4000 and excluded values are assigned a value of 6000. Identifying biodiversity value and potential to enhance the representativeness of Australia\u2019s Protected Areas using Multi-Criteria Decision Analysis Version 1.0. that describes the data and methods is available at: https://erin.maps.arcgis.com/home/item.html?id=6510ec40d81c43cda8d44e86b81adce2Criterion 1 Inputs: 1. Species diversity Plant diversity spatial layers for Australia (250m) Community-level diversity layers for Australia - Bird Richness, Reptile Richness and Fungi Richness (250m) 2. Regional endemismSpecies of National Environmental Significance \u2013 GDB (1km) Interim Biogeographic Regionalisation for Australia - Subregion 3. Habitat for threatened ecological communities and threatened and migratory speciesDensity of indicative threatened ecological community distributions (1km) Density of threatened and migratory species habitat distributions (1km) 4. Severely threatened species and ecological communities Species of National Environmental Significance \u2013 GDB (1km) Ecological Communities of National Environmental Significance Distributions\u2013 GDB (1km) 5. Ecosystem servicesHCAS Optimised SLGA Products - Available Volumetric Water Capacity to 1m (250m) HCAS Optimised SLGA Products Topsoil & Subsoil Aggregated Soil Attribute Surfaces for Total nitrogen, Total phosphorous and Soil organic carbon (250m) 6. Habitat condition and connectivityHabitat Condition Assessment System (HCAS) 1988 to 2024 (90m) National Connectivity Index (NCI) 1988 to 2024 (90m) Criterion 2 Inputs: Interim Biogeographic Regionalisation for Australia - Regions Interim Biogeographic Regionalisation for Australia - Subregions National Vegetation Information System Pre -1750 MVG (100m) National Vegetation Information System Extant MVG (100m) Collaborative Australian Protected Areas Database - Terrestrial Caveats The analysis only uses national data, which may have variable quality and availability across the country. Some of this data is derived from models with their own inherent uncertainty and levels of accuracy that should be considered when using this output. Outputs of this analysis should be considered alongside regional and/or local scale information, particularly when incorporated in the decision-making process. Species distribution models were used to derive multiple input datasets used in this analysis (e.g. species density and regional endemism). These datasets represent different information and use different methodology to derive results. This analysis uses the published Collaborative Australian Protected Areas Database 2024, which does not include areas protected since 30 June 2024. There are caveats associated with the datasets used in this analysis. Please refer to individual datasets for further information.",
 "extent": {
  "xmin": 1.21906854118E7,
  "ymin": -5515047.926399998,
  "xmax": 1.75006854118E7,
  "ymax": -955297.9263999984,
  "spatialReference": {
   "wkid": 102100,
   "latestWkid": 3857
  }
 },
 "initialExtent": {
  "xmin": 1.21906854118E7,
  "ymin": -5515047.926399998,
  "xmax": 1.75006854118E7,
  "ymax": -955297.9263999984,
  "spatialReference": {
   "wkid": 102100,
   "latestWkid": 3857
  }
 },
 "fullExtent": {
  "xmin": 1.21906854118E7,
  "ymin": -5515047.926399998,
  "xmax": 1.75006854118E7,
  "ymax": -955297.9263999984,
  "spatialReference": {
   "wkid": 102100,
   "latestWkid": 3857
  }
 },
 "hasMultidimensions": false,
 "pixelSizeX": 250,
 "pixelSizeY": 250,
 "datasetFormat": "AMD",
 "uncompressedSize": 774792720,
 "blockWidth": 2048,
 "blockHeight": 256,
 "compressionType": "None",
 "bandNames": [
  "Band_1"
 ],
 "allowCopy": true,
 "allowAnalysis": true,
 "bandCount": 1,
 "pixelType": "U16",
 "minPixelSize": 0,
 "maxPixelSize": 0,
 "copyrightText": "Combined: Biodiversity values and representativeness v1.0: Australia are copyright (c) Commonwealth of Australia, Australian Government Department of Climate Change, Energy, Environment and Water, 2025.",
 "serviceDataType": "esriImageServiceDataTypeThematic",
 "serviceSourceType": "esriImageServiceSourceTypeMosaicDataset",
 "minValues": [
  156.435546875
 ],
 "maxValues": [
  5988.564453125
 ],
 "meanValues": [
  3608.7865153377916
 ],
 "stdvValues": [
  2460.337126579737
 ],
 "objectIdField": "OBJECTID",
 "fields": [
  {
   "name": "OBJECTID",
   "type": "esriFieldTypeOID",
   "alias": "OBJECTID",
   "domain": null
  },
  {
   "name": "Shape",
   "type": "esriFieldTypeGeometry",
   "alias": "Shape",
   "domain": null
  },
  {
   "name": "Name",
   "type": "esriFieldTypeString",
   "alias": "Name",
   "domain": null,
   "length": 200
  },
  {
   "name": "MinPS",
   "type": "esriFieldTypeDouble",
   "alias": "MinPS",
   "domain": null
  },
  {
   "name": "MaxPS",
   "type": "esriFieldTypeDouble",
   "alias": "MaxPS",
   "domain": null
  },
  {
   "name": "LowPS",
   "type": "esriFieldTypeDouble",
   "alias": "LowPS",
   "domain": null
  },
  {
   "name": "HighPS",
   "type": "esriFieldTypeDouble",
   "alias": "HighPS",
   "domain": null
  },
  {
   "name": "Category",
   "type": "esriFieldTypeInteger",
   "alias": "Category",
   "domain": {
    "type": "codedValue",
    "name": "MosaicCatalogItemCategoryDomain",
    "description": "Catalog item categories.",
    "codedValues": [
     {
      "name": "Unknown",
      "code": 0
     },
     {
      "name": "Primary",
      "code": 1
     },
     {
      "name": "Overview",
      "code": 2
     },
     {
      "name": "Unprocessed Overview",
      "code": 3
     },
     {
      "name": "Partial Overview",
      "code": 4
     },
     {
      "name": "Inactive",
      "code": 5
     },
     {
      "name": "Uploaded",
      "code": 253
     },
     {
      "name": "Incomplete",
      "code": 254
     },
     {
      "name": "Custom",
      "code": 255
     }
    ],
    "mergePolicy": "esriMPTDefaultValue",
    "splitPolicy": "esriSPTDefaultValue"
   }
  },
  {
   "name": "Tag",
   "type": "esriFieldTypeString",
   "alias": "Tag",
   "domain": null,
   "length": 100
  },
  {
   "name": "GroupName",
   "type": "esriFieldTypeString",
   "alias": "GroupName",
   "domain": null,
   "length": 100
  },
  {
   "name": "ProductName",
   "type": "esriFieldTypeString",
   "alias": "ProductName",
   "domain": null,
   "length": 100
  },
  {
   "name": "CenterX",
   "type": "esriFieldTypeDouble",
   "alias": "CenterX",
   "domain": null
  },
  {
   "name": "CenterY",
   "type": "esriFieldTypeDouble",
   "alias": "CenterY",
   "domain": null
  },
  {
   "name": "ZOrder",
   "type": "esriFieldTypeInteger",
   "alias": "ZOrder",
   "domain": null
  },
  {
   "name": "Shape_Length",
   "type": "esriFieldTypeDouble",
   "alias": "Shape_Length",
   "domain": null
  },
  {
   "name": "Shape_Area",
   "type": "esriFieldTypeDouble",
   "alias": "Shape_Area",
   "domain": null
  }
 ],
 "capabilities": "Image,Metadata,Mensuration,Catalog,Download",
 "defaultMosaicMethod": "Northwest",
 "allowedMosaicMethods": "NorthWest,Center,LockRaster,ByAttribute,Nadir,Viewpoint,Seamline,None",
 "sortField": "",
 "sortValue": null,
 "sortAscending": true,
 "mosaicOperator": "First",
 "maxDownloadSizeLimit": 2048,
 "defaultCompressionQuality": 75,
 "defaultResamplingMethod": "Bilinear",
 "maxImageHeight": 4100,
 "maxImageWidth": 15000,
 "maxRecordCount": 1000,
 "maxDownloadImageCount": 20,
 "maxMosaicImageCount": 20,
 "allowRasterFunction": true,
 "rasterFunctionInfos": [
  {
   "name": "None",
   "description": "",
   "help": ""
  }
 ],
 "rasterTypeInfos": [
  {
   "name": "Raster Dataset",
   "description": "Supports all ArcGIS Raster Datasets",
   "help": ""
  }
 ],
 "mensurationCapabilities": "Basic",
 "hasHistograms": true,
 "hasColormap": false,
 "hasRasterAttributeTable": true,
 "minScale": 0,
 "maxScale": 0,
 "exportTilesAllowed": false,
 "supportsStatistics": true,
 "supportsAdvancedQueries": true,
 "editFieldsInfo": null,
 "ownershipBasedAccessControlForRasters": null,
 "allowComputeTiePoints": false,
 "useStandardizedQueries": true,
 "advancedQueryCapabilities": {
  "useStandardizedQueries": true,
  "supportsStatistics": true,
  "supportsOrderBy": true,
  "supportsDistinct": true,
  "supportsPagination": true
 },
 "spatialReference": {
  "wkid": 102100,
  "latestWkid": 3857
 }
}
