<?xml version="1.0" encoding="UTF-8" standalone="no"?>
<metadata xml:lang="en">
<Esri>
<CreaDate>20260120</CreaDate>
<CreaTime>15454700</CreaTime>
<ArcGISFormat>1.0</ArcGISFormat>
<SyncOnce>FALSE</SyncOnce>
<DataProperties>
<itemProps>
<imsContentType>002</imsContentType>
<itemName Sync="TRUE">Criterion_1_Biodiversity_values_v1</itemName>
<itemLocation>
<linkage Sync="TRUE">file://\\upvcdcfnafs02.internal.govt\gisfs02\data_public\services_data\bvr\Criterion_1\Biodiversity_Values_gispubim.gdb</linkage>
<protocol Sync="TRUE">Local Area Network</protocol>
</itemLocation>
<nativeExtBox>
<westBL Sync="TRUE">12185125.840300</westBL>
<eastBL Sync="TRUE">17506875.840300</eastBL>
<southBL Sync="TRUE">-5550303.528600</southBL>
<northBL Sync="TRUE">-955303.528600</northBL>
<exTypeCode Sync="TRUE">1</exTypeCode>
</nativeExtBox>
</itemProps>
<coordRef>
<type Sync="TRUE">Projected</type>
<geogcsn Sync="TRUE">GCS_WGS_1984</geogcsn>
<csUnits Sync="TRUE">Linear Unit: Meter (1.000000)</csUnits>
<projcsn Sync="TRUE">WGS_1984_Web_Mercator_Auxiliary_Sphere</projcsn>
<peXml Sync="TRUE">&lt;ProjectedCoordinateSystem xsi:type='typens:ProjectedCoordinateSystem' xmlns:xsi='http://www.w3.org/2001/XMLSchema-instance' xmlns:xs='http://www.w3.org/2001/XMLSchema' xmlns:typens='http://www.esri.com/schemas/ArcGIS/3.2.0'&gt;&lt;WKT&gt;PROJCS[&amp;quot;WGS_1984_Web_Mercator_Auxiliary_Sphere&amp;quot;,GEOGCS[&amp;quot;GCS_WGS_1984&amp;quot;,DATUM[&amp;quot;D_WGS_1984&amp;quot;,SPHEROID[&amp;quot;WGS_1984&amp;quot;,6378137.0,298.257223563]],PRIMEM[&amp;quot;Greenwich&amp;quot;,0.0],UNIT[&amp;quot;Degree&amp;quot;,0.0174532925199433]],PROJECTION[&amp;quot;Mercator_Auxiliary_Sphere&amp;quot;],PARAMETER[&amp;quot;False_Easting&amp;quot;,0.0],PARAMETER[&amp;quot;False_Northing&amp;quot;,0.0],PARAMETER[&amp;quot;Central_Meridian&amp;quot;,0.0],PARAMETER[&amp;quot;Standard_Parallel_1&amp;quot;,0.0],PARAMETER[&amp;quot;Auxiliary_Sphere_Type&amp;quot;,0.0],UNIT[&amp;quot;Meter&amp;quot;,1.0],AUTHORITY[&amp;quot;EPSG&amp;quot;,3857]]&lt;/WKT&gt;&lt;XOrigin&gt;-20037700&lt;/XOrigin&gt;&lt;YOrigin&gt;-30241100&lt;/YOrigin&gt;&lt;XYScale&gt;148923141.92838538&lt;/XYScale&gt;&lt;ZOrigin&gt;-100000&lt;/ZOrigin&gt;&lt;ZScale&gt;10000&lt;/ZScale&gt;&lt;MOrigin&gt;-100000&lt;/MOrigin&gt;&lt;MScale&gt;10000&lt;/MScale&gt;&lt;XYTolerance&gt;0.001&lt;/XYTolerance&gt;&lt;ZTolerance&gt;0.001&lt;/ZTolerance&gt;&lt;MTolerance&gt;0.001&lt;/MTolerance&gt;&lt;HighPrecision&gt;true&lt;/HighPrecision&gt;&lt;WKID&gt;102100&lt;/WKID&gt;&lt;LatestWKID&gt;3857&lt;/LatestWKID&gt;&lt;/ProjectedCoordinateSystem&gt;</peXml>
</coordRef>
<RasterProperties>
<General>
<PixelDepth Sync="TRUE">16</PixelDepth>
<HasColormap Sync="TRUE">FALSE</HasColormap>
<CompressionType Sync="TRUE">None</CompressionType>
<NumBands Sync="TRUE">1</NumBands>
<Format Sync="TRUE">AMD</Format>
<HasPyramids Sync="TRUE">TRUE</HasPyramids>
<SourceType Sync="TRUE">discrete</SourceType>
<PixelType Sync="TRUE">unsigned integer</PixelType>
<NoDataValue Sync="TRUE"/>
</General>
<Properties>
<MaxImageHeight Sync="TRUE">4100</MaxImageHeight>
<MaxImageWidth Sync="TRUE">15000</MaxImageWidth>
<MaxRecordCount Sync="TRUE">1000</MaxRecordCount>
<MaxDownloadImageCount Sync="TRUE">20</MaxDownloadImageCount>
<MaxDownloadSizeLimit Sync="TRUE">2048</MaxDownloadSizeLimit>
<MaxMosaicImageCount Sync="TRUE">20</MaxMosaicImageCount>
<DefaultCompressionQuality Sync="TRUE">75</DefaultCompressionQuality>
<DefaultCompressionTolerance Sync="TRUE">0.01</DefaultCompressionTolerance>
<BlendWidth Sync="TRUE">10</BlendWidth>
<ViewpointSpacingX Sync="TRUE">600</ViewpointSpacingX>
<ViewpointSpacingY Sync="TRUE">300</ViewpointSpacingY>
<AllowedItemMetadata Sync="TRUE">Basic</AllowedItemMetadata>
<DefaultResamplingMethod Sync="TRUE">1</DefaultResamplingMethod>
<AllowedMosaicMethods Sync="TRUE">NorthWest,Center,LockRaster,ByAttribute,Nadir,Viewpoint,Seamline,None</AllowedMosaicMethods>
<AllowedCompressions Sync="TRUE">None,JPEG,LZ77,LERC</AllowedCompressions>
<AllowedMensurationCapabilities Sync="TRUE">Basic</AllowedMensurationCapabilities>
<AvailableMensurationCapabilities Sync="TRUE">None,Basic,Base-Top Height,Top-Top Shadow Height,Base-Top Shadow Height,3D</AvailableMensurationCapabilities>
<ClipToBoundary Sync="TRUE">-1</ClipToBoundary>
<FootprintMayContainNoData Sync="TRUE">-1</FootprintMayContainNoData>
<CellSizeTolerance Sync="TRUE">0.8</CellSizeTolerance>
<MinimumPixelContribution Sync="TRUE">1</MinimumPixelContribution>
<AvailableMosaicMethods Sync="TRUE">NorthWest,Center,LockRaster,ByAttribute,Nadir,Viewpoint,Seamline,None</AvailableMosaicMethods>
<AvailableCompressionMethods Sync="TRUE">None,JPEG,LZ77,LERC</AvailableCompressionMethods>
<AvailableItemMetadataLevels Sync="TRUE">None,Basic,Full</AvailableItemMetadataLevels>
<BandDefinitionKeyword Sync="TRUE">NONE</BandDefinitionKeyword>
<_docversion_ Sync="TRUE">10</_docversion_>
<AllowedFields Sync="TRUE">Name,MinPS,MaxPS,LowPS,HighPS,Tag,GroupName,ProductName,CenterX,CenterY,ZOrder,Shape_Length,Shape_Area</AllowedFields>
<ClipToFootprint Sync="TRUE">-1</ClipToFootprint>
<DataType Sync="TRUE">Generic</DataType>
<MaxCellSize Sync="TRUE">180000</MaxCellSize>
<LowCellSize Sync="TRUE">250</LowCellSize>
<HighCellSize Sync="TRUE">18000</HighCellSize>
</Properties>
<Functions Sync="TRUE">
<Function Description="Use a table to name and symbolize the values in a dataset. Columns for the table are comma delimited: PixelValue, AttributeName, RedValue, GreenValue, BlueValue." Name="Attribute Table">
<Arguments>
<Raster>MosaicFunction.OutputRaster</Raster>
<AttributeTable>.\04_raster_functions\criteria1_Biodiversity_Values_v1</AttributeTable>
<AttributeTableAsRecordSet/>
</Arguments>
</Function>
<Function Description="Performs on-the-fly mosaic on a raster catalog." Name="Mosaic Function"/>
</Functions>
</RasterProperties>
</DataProperties>
<SyncDate>20260120</SyncDate>
<SyncTime>15514900</SyncTime>
<ModDate>20260120</ModDate>
<ModTime>15514900</ModTime>
</Esri>
<mdLang>
<languageCode value="eng"/>
<countryCode Sync="TRUE" value="AUS"/>
</mdLang>
<mdChar>
<CharSetCd value="004"/>
</mdChar>
<mdHrLv>
<ScopeCd value="005"/>
</mdHrLv>
<mdHrLvName>dataset</mdHrLvName>
<mdContact>
<rpIndName>​​DCCEEW-Spatial​ </rpIndName>
<rpOrgName>​​Australian Government Department of Climate Change, Energy, Environment and Water​ </rpOrgName>
<rpPosName>Director Decision Support &amp; Analysis, Environment Data and Analysis Branch, Environment Information Australia</rpPosName>
<rpCntInfo>
<cntAddress>
<city>​​Canberra​ </city>
<adminArea>ACT</adminArea>
<postCode>2601</postCode>
<country>AU</country>
<eMailAdd>​​geospatial@dcceew.gov.au​ </eMailAdd>
</cntAddress>
<cntOnlineRes>
<linkage>https://www.dcceew.gov.au</linkage>
</cntOnlineRes>
</rpCntInfo>
<role>
<RoleCd value="007"/>
</role>
</mdContact>
<mdDateSt>20260120</mdDateSt>
<mdStanName>ArcGIS Metadata</mdStanName>
<mdStanVer>1.0</mdStanVer>
<distInfo>
<distFormat>
<formatName>GeoTIFF</formatName>
<formatVer>Download</formatVer>
</distFormat>
<distributor>
<distorCont>
<rpIndName>​​DCCEEW-Spatial​ </rpIndName>
<rpOrgName>​​Australian Government Department of Climate Change, Energy, Environment and Water​ </rpOrgName>
<rpPosName>Spatial Data Manager</rpPosName>
<rpCntInfo>
<cntAddress>
<city>​​Canberra​ </city>
<adminArea>ACT</adminArea>
<postCode>2601</postCode>
<country>AU</country>
<eMailAdd>​​geospatial@dcceew.gov.au​ </eMailAdd>
</cntAddress>
</rpCntInfo>
<role>
<RoleCd value="005"/>
</role>
</distorCont>
</distributor>
<distTranOps>
<onLineSrc>
<linkage>https://fed.dcceew.gov.au</linkage>
<orDesc>002</orDesc>
<orFunct>
<OnFunctCd value="001"/>
</orFunct>
</onLineSrc>
</distTranOps>
</distInfo>
<dataIdInfo>
<idCitation>
<resTitle>Criterion_1_Biodiversity_values_v1</resTitle>
<date>
<createDate>2025-12-01</createDate>
</date>
<citRespParty>
<rpIndName>​​</rpIndName>
<rpOrgName>​​Australian Government Department of Climate Change, Energy, Environment and Water​ </rpOrgName>
<rpPosName>Spatial Data Manager</rpPosName>
<rpCntInfo>
<cntAddress>
<delPoint>GPO Box 3090</delPoint>
<city>​​Canberra​ </city>
<adminArea>ACT</adminArea>
<postCode>2601</postCode>
<country>AU</country>
<eMailAdd>​​geospatial@dcceew.gov.au​ </eMailAdd>
</cntAddress>
<cntOnlineRes>
<linkage>https://www.dcceew.gov.au</linkage>
</cntOnlineRes>
</rpCntInfo>
<role>
<RoleCd value="002"/>
</role>
</citRespParty>
<citRespParty>
<rpIndName>​​</rpIndName>
<rpOrgName>​​Australian Government Department of Climate Change, Energy, Environment and Water​ </rpOrgName>
<rpPosName>Spatial Data Manager</rpPosName>
<rpCntInfo>
<cntAddress>
<delPoint>GPO Box 3090</delPoint>
<city>​​Canberra​ </city>
<adminArea>ACT</adminArea>
<postCode>2601</postCode>
<country>AU</country>
<eMailAdd>​​geospatial@dcceew.gov.au​ </eMailAdd>
</cntAddress>
<cntOnlineRes>
<linkage>https://www.dcceew.gov.au</linkage>
</cntOnlineRes>
</rpCntInfo>
<role>
<RoleCd value="010"/>
</role>
</citRespParty>
<presForm>
<PresFormCd value="005"/>
</presForm>
</idCitation>
<idAbs>The Criterion 1: Biodiversity values v1.0 raster (250 m resolution) represents relative across terrestrial Australia, categorised into percentile-based thresholds that highlight areas of comparatively higher biodiversity importance. This layer was generated using a reproducible MCDA workflow implemented in Python and ArcGIS Pro. The workflow includes: Criterion 1: Integrated species diversity, endemism, threatened species and ecosystems, habitat connectivity, and ecosystem services. Inputs included national biodiversity datasets and ecological integrity indicators (e.g. Habitat Condition Assessment System (HCAS), National Connectivity Index (NCI) The final raster reflects areas where this criterion is met with scores out of 1000 and protected areas masked (assigned value of 4000). Higher scores (between 0 to 1000) equate to areas with higher biodiversity values. Identifying biodiversity value and potential to enhance the representativeness of Australia’s Protected Areas using Multi-Criteria Decision Analysis Version 1.0. that describes the data and methods is available at: https://erin.maps.arcgis.com/home/item.html?id=6510ec40d81c43cda8d44e86b81adce2Criterion 1 Inputs: 1. Species diversity Plant diversity spatial layers for Australia (250m) Community-level diversity layers for Australia - Bird Richness, Reptile Richness and Fungi Richness (250m) 2. Regional endemismSpecies of National Environmental Significance – GDB (1km) Interim Biogeographic Regionalisation for Australia - Subregion 3. Habitat for threatened ecological communities and threatened and migratory speciesDensity of indicative threatened ecological community distributions (1km) Density of threatened and migratory species habitat distributions (1km) 4. Severely threatened species and ecological communities Species of National Environmental Significance – GDB (1km) Ecological Communities of National Environmental Significance Distributions– GDB (1km) 5. Ecosystem servicesHCAS Optimised SLGA Products - Available Volumetric Water Capacity to 1m (250m) HCAS Optimised SLGA Products Topsoil &amp;amp; Subsoil Aggregated Soil Attribute Surfaces for Total nitrogen, Total phosphorous and Soil organic carbon (250m) 6. Habitat condition and connectivityHabitat Condition Assessment System (HCAS) 1988 to 2024 (90m) National Connectivity Index (NCI) 1988 to 2024 (90m) Caveats The analysis only uses national data, which may have variable quality and availability across the country. Some of this data is derived from models with their own inherent uncertainty and levels of accuracy that should be considered when using this output. Outputs of this analysis should be considered alongside regional and/or local scale information, particularly when incorporated in the decision-making process. Species distribution models were used to derive multiple input datasets used in this analysis (e.g. species density and regional endemism). These datasets represent different information and use different methodology to derive results. This analysis uses the published Collaborative Australian Protected Areas Database 2024, which does not include areas protected since 30 June 2024. There are caveats associated with the datasets used in this analysis. Please refer to individual datasets for further information.</idAbs>
<idPurp>The Criterion 1: Biodiversity values v1.0 dataset shows the results of multi-criteria decision analysis (MCDA) to identify areas in Australia with high levels species diversity, endemism, threatened species and ecosystems, habitat connectivity, and ecosystem services as defined by Criterion 1 in the National Roadmap for protecting and conserving 30% of Australia’s land by 2030 (National Roadmap). Further information in https://www.dcceew.gov.au/environment/land/achieving-30-by-30/national-roadmap.</idPurp>
<idCredit>Criterion 1: Biodiversity values v1.0: Australia are copyright (c) Commonwealth of Australia, Australian Government Department of Climate Change, Energy, Environment and Water, 2025.</idCredit>
<idPoC>
<rpIndName>​​DCCEEW</rpIndName>
<rpOrgName>​​Australian Government Department of Climate Change, Energy, Environment and Water​ </rpOrgName>
<rpPosName> Director Decision Support &amp; Analysis, Environment Data and Analysis Branch, Environment Information Australia</rpPosName>
<rpCntInfo>
<cntAddress>
<city>​​Canberra​ </city>
<adminArea>ACT</adminArea>
<postCode>2601</postCode>
<country>AU</country>
<eMailAdd>​​geospatial@dcceew.gov.au​ </eMailAdd>
</cntAddress>
<cntOnlineRes>
<linkage>https://www.dcceew.gov.au</linkage>
</cntOnlineRes>
</rpCntInfo>
<role>
<RoleCd value="007"/>
</role>
</idPoC>
<resMaint>
<maintFreq>
<MaintFreqCd value="009"/>
</maintFreq>
</resMaint>
<otherKeys>
<keyword>30 by 30</keyword>
<keyword>GBF Target 3</keyword>
<keyword>biodiversity value</keyword>
<keyword>Protection</keyword>
<keyword>protected areas</keyword>
<keyword>MCDA</keyword>
<keyword>conservation planning</keyword>
</otherKeys>
<searchKeys>
<keyword>30 by 30</keyword>
<keyword>GBF Target 3</keyword>
<keyword>biodiversity value</keyword>
<keyword>Protection</keyword>
<keyword>protected areas</keyword>
<keyword>MCDA</keyword>
<keyword>conservation planning</keyword>
</searchKeys>
<resConst>
<Consts>
<useLimit>While reasonable efforts have been made to ensure that the contents of this publication are factually correct, the Commonwealth does not accept responsibility for the accuracy or completeness of the contents and shall not be liable for any loss or damage that may be occasioned directly or indirectly through the use of, or reliance on, the contents of this publication.</useLimit>
</Consts>
</resConst>
<resConst>
<LegConsts>
<accessConsts>
<RestrictCd value="005"/>
</accessConsts>
<useConsts>
<RestrictCd value="005"/>
</useConsts>
<othConsts>This dataset has been licensed under the Creative Commons Attribution 4.0 International Licence (CC BY 4.0).More information can be found at http://creativecommons.org.au/learn/licences.</othConsts>
</LegConsts>
</resConst>
<spatRpType>
<SpatRepTypCd value="002"/>
</spatRpType>
<dataLang>
<languageCode value="eng"/>
<countryCode Sync="TRUE" value="AUS"/>
</dataLang>
<dataChar>
<CharSetCd value="004"/>
</dataChar>
<tpCat>
<TopicCatCd value="002"/>
</tpCat>
<tpCat>
<TopicCatCd value="007"/>
</tpCat>
<tpCat>
<TopicCatCd value="008"/>
</tpCat>
<dataExt>
<geoEle>
<GeoBndBox>
<exTypeCode>true</exTypeCode>
<westBL>109.460834791</westBL>
<eastBL>157.26687856</eastBL>
<southBL>-42.986723165</southBL>
<northBL>-8.549743452</northBL>
</GeoBndBox>
</geoEle>
</dataExt>
<envirDesc Sync="TRUE">Microsoft Windows Server 2016 Technical Preview Version 10.0 (Build 17763) ; Esri ArcGIS 13.2.0.49743</envirDesc>
<dataExt>
<geoEle>
<GeoBndBox esriExtentType="search">
<exTypeCode Sync="TRUE">1</exTypeCode>
<westBL Sync="TRUE">109.460848</westBL>
<eastBL Sync="TRUE">157.266941</eastBL>
<northBL Sync="TRUE">-8.549731</northBL>
<southBL Sync="TRUE">-44.545834</southBL>
</GeoBndBox>
</geoEle>
</dataExt>
</dataIdInfo>
<mdMaint>
<maintFreq>
<MaintFreqCd value="009"/>
</maintFreq>
</mdMaint>
<mdConst>
<Consts>
<useLimit>While reasonable efforts have been made to ensure that the contents of this publication are factually correct, the Commonwealth does not accept responsibility for the accuracy or completeness of the contents and shall not be liable for any loss or damage that may be occasioned directly or indirectly through the use of, or reliance on, the contents of this publication.</useLimit>
</Consts>
</mdConst>
<mdConst>
<LegConsts>
<accessConsts>
<RestrictCd value="005"/>
</accessConsts>
<useConsts>
<RestrictCd value="005"/>
</useConsts>
<othConsts>This dataset has been licensed under the Creative Commons Attribution 4.0 International Licence (CC BY 4.0).More information can be found at http://creativecommons.org.au/learn/licences.</othConsts>
</LegConsts>
</mdConst>
<dqInfo>
<dqScope>
<scpLvl>
<ScopeCd value="005"/>
</scpLvl>
</dqScope>
<dataLineage>
<statement>The Criterion 1: Biodiversity values v1.0 dataset was derived using a Multi-Criteria Decision Analysis workflow implemented in ESRI ArcGIS Pro. Input datasets were the: Plant diversity spatial layers for Australia v2 (extracted 07/10/2025), Community-level diversity layers for Australia. V2 extracted 22/09/2025), Species of National Environmental Significance and selected marine and cetacean species-GDB (extracted 16/10/2025), Commonwealth Density of threatened and migratory species distributions (extracted 16/10/2025), Density of indicative threatened ecological community distributions (extracted 16/10/2025), HCAS Optimised SLGA Products (extracted 16/10/2025), Ecological Communities of National Environmental Significance database (extracted 16/10/2025), the Habitat Condition Assessment System (HCAS) v3.0 and National Connectivity Index (NCI) v2.0 derived using HCAS v3.1 (extracted 16/10/2025), Collaborative Australian Protected Area Database (CAPAD) (2024) and Interim Biogeographic Regionalisation for Australia (IBRA) Subregion (v7.1) dataset (extracted 16/10/2025). Identifying biodiversity value and potential to enhance the representativeness of Australia’s Protected Areas using Multi-Criteria Decision Analysis Version 1.0. that describes the data and methods is available at: https://erin.maps.arcgis.com/home/item.html?id=6510ec40d81c43cda8d44e86b81adce2</statement>
<dataSource>
<srcDesc>Data inputs and their sources are described in the following references. Collaborative Australian Protected Areas Database (CAPAD) 2024, Department of Climate Change, Energy, the Environment and Water (2025). National Vegetation Information System data products [Web page]. Retrieved October 16, 2025, from https://www.dcceew.gov.au/environment/environment-information-australia/national-vegetation-information-system/data-products Density of threatened and migratory species habitat distributions, Department of Climate Change, Energy, the Environment and Water (2025). Density of threatened and migratory species habitat distributions [Geospatial dataset]. Find Environmental Data. Retrieved October 16, 2025, from https://fed.dcceew.gov.au/maps/bc4280e15e5740dcb0ed33511f619eeb Density of threatened and migratory species habitat distributions, Department of Climate Change, Energy, the Environment and Water (2025). Density of threatened and migratory species habitat distributions [Geospatial dataset]. Find Environmental Data. Retrieved October 16, 2025, from https://fed.dcceew.gov.au/maps/bc4280e15e5740dcb0ed33511f619eeb Ecological Communities of National Environmental Significance database, Department of Climate Change, Energy, the Environment and Water (2025) Ecological Communities of National Environmental Significance database [Geospatial dataset]. Find Environmental Data. Retrieved October 16, 2025, from https://fed.dcceew.gov.au/datasets/3ce27fab85194f468bcfb106e5be15ee Interim Biogeographic Regionalisation for Australia (IBRA) Version 7.1 – Subregions, Department of Climate Change, Energy, the Environment and Water (2025). Interim Biogeographic Regionalisation for Australia (IBRA), Version 7.1 – Subregions [Geospatial dataset]. Find Environmental Data. Retrieved October 16, 2025, from https://fed.dcceew.gov.au/datasets/erin::interim-biogeographic-regionalisation-for-australia-ibra-version-7-1-subregions/about Malone B &amp; Searle R (2024), Soil and Landscape Grid National Soil Attribute Maps – Total Nitrogen (3" resolution) – Release 2, Version 1.0, Terrestrial Ecosystem Research Network. https://dx.doi.org/10.25919/pm2n-ww12 Malone B &amp; Searle R (2024), Soil and Landscape Grid National Soil Attribute Maps – Total Phosphorus (3" resolution) – Release 2, Version 1.0, Terrestrial Ecosystem Research Network. https://dx.doi.org/10.25919/7j78-md43 Mokany, Karel; McCarthy, James; Falster, Daniel; Gallagher, Rachael; Harwood, Tom; Kooyman, Robert; &amp; Westoby, Mark (2022): Plant diversity spatial layers for Australia. v2. CSIRO. Data Collection. https://doi.org/10.25919/mk24-1792, Retrieved 07/10/2025 Mokany, Karel (2022): Community-level diversity layers for Australia. v2. CSIRO. Data Collection. https://doi.org/10.25919/b4nx-0g69, Retrieved 22/09/2025 Species of National Environmental Significance and selected marine and cetacean species – GDB Department of Climate Change, Energy, the Environment and Water (2025). Species of National Environmental Significance and selected marine and cetacean species - GDB [Geospatial dataset]. Find Environmental Data. Retrieved October 16, 2025, from https://fed.dcceew.gov.au/datasets/erin::species-of-national-environmental-significance-and-selected-marine-and-cetacean-species-gdb/about Valavi, R., Levick, S.R., Lehmann, E.A., Liu, N., Giljohann, K.M., Williams, K.J., et al. (2025). HCAS 3.3 (1988–2024) base model estimate of habitat condition (90m grid), National Connectivity Index 2.0 (NCI) and annual time series for continental Australia [Data collection 65549]. CSIRO, Canberra, Australia. https://data.csiro.au/collection/csiro:65549 Wadoux, A., Dobarco, M., Malone, B., Minasny, B., McBratney, A. &amp; Searle, R. (2024). Soil and Landscape Grid National Soil Attribute Maps - Organic Carbon (3" resolution) - Release 2. Version 2.0. Terrestrial Ecosystem Research Network. Dataset. https://dx.doi.org/10.25919/ejhm-c070 </srcDesc>
</dataSource>
</dataLineage>
</dqInfo>
<spatRepInfo>
<GridSpatRep>
<numDims>2</numDims>
<axisDimension type="002">
<dimSize>1603</dimSize>
<dimResol>
<value uom="m">250</value>
</dimResol>
</axisDimension>
<axisDimension type="001">
<dimSize>15268</dimSize>
<dimResol>
<value uom="m">250</value>
</dimResol>
</axisDimension>
<cellGeo>
<CellGeoCd value="002"/>
</cellGeo>
<tranParaAv>false</tranParaAv>
</GridSpatRep>
<Georect>
<cellGeo>
<CellGeoCd Sync="TRUE" value="002"/>
</cellGeo>
<numDims Sync="TRUE">2</numDims>
<tranParaAv Sync="TRUE">1</tranParaAv>
<chkPtAv Sync="TRUE">0</chkPtAv>
<cornerPts>
<pos Sync="TRUE">12185125.840300 -5550303.528600</pos>
</cornerPts>
<cornerPts>
<pos Sync="TRUE">12185125.840300 -955303.528600</pos>
</cornerPts>
<cornerPts>
<pos Sync="TRUE">17506875.840300 -955303.528600</pos>
</cornerPts>
<cornerPts>
<pos Sync="TRUE">17506875.840300 -5550303.528600</pos>
</cornerPts>
<centerPt>
<pos Sync="TRUE">14846000.840300 -3252803.528600</pos>
</centerPt>
<axisDimension type="002">
<dimSize Sync="TRUE">21287</dimSize>
<dimResol>
<value Sync="TRUE" uom="m">250.000000</value>
</dimResol>
</axisDimension>
<axisDimension type="001">
<dimSize Sync="TRUE">18380</dimSize>
<dimResol>
<value Sync="TRUE" uom="m">250.000000</value>
