{
 "currentVersion": 10.91,
 "serviceDescription": "The Criterion 1: Biodiversity values v1.0 raster (250 m resolution) represents relative across terrestrial Australia, categorised into percentile-based thresholds that highlight areas of comparatively higher biodiversity importance. This layer was generated using a reproducible MCDA workflow implemented in Python and ArcGIS Pro. The workflow includes: Criterion 1: Integrated species diversity, endemism, threatened species and ecosystems, habitat connectivity, and ecosystem services. Inputs included national biodiversity datasets and ecological integrity indicators (e.g. Habitat Condition Assessment System (HCAS), National Connectivity Index (NCI) The final raster reflects areas where this criterion is met with scores out of 1000 and protected areas masked (assigned value of 4000). Higher scores (between 0 to 1000) equate to areas with higher biodiversity values. Identifying biodiversity value and potential to enhance the representativeness of Australia\u2019s Protected Areas using Multi-Criteria Decision Analysis Version 1.0. that describes the data and methods is available at: https://erin.maps.arcgis.com/home/item.html?id=6510ec40d81c43cda8d44e86b81adce2Criterion 1 Inputs: 1. Species diversity Plant diversity spatial layers for Australia (250m) Community-level diversity layers for Australia - Bird Richness, Reptile Richness and Fungi Richness (250m) 2. Regional endemismSpecies of National Environmental Significance \u2013 GDB (1km) Interim Biogeographic Regionalisation for Australia - Subregion 3. Habitat for threatened ecological communities and threatened and migratory speciesDensity of indicative threatened ecological community distributions (1km) Density of threatened and migratory species habitat distributions (1km) 4. Severely threatened species and ecological communities Species of National Environmental Significance \u2013 GDB (1km) Ecological Communities of National Environmental Significance Distributions\u2013 GDB (1km) 5. Ecosystem servicesHCAS Optimised SLGA Products - Available Volumetric Water Capacity to 1m (250m) HCAS Optimised SLGA Products Topsoil & Subsoil Aggregated Soil Attribute Surfaces for Total nitrogen, Total phosphorous and Soil organic carbon (250m) 6. Habitat condition and connectivityHabitat Condition Assessment System (HCAS) 1988 to 2024 (90m) National Connectivity Index (NCI) 1988 to 2024 (90m) Caveats The analysis only uses national data, which may have variable quality and availability across the country. Some of this data is derived from models with their own inherent uncertainty and levels of accuracy that should be considered when using this output. Outputs of this analysis should be considered alongside regional and/or local scale information, particularly when incorporated in the decision-making process. Species distribution models were used to derive multiple input datasets used in this analysis (e.g. species density and regional endemism). These datasets represent different information and use different methodology to derive results. This analysis uses the published Collaborative Australian Protected Areas Database 2024, which does not include areas protected since 30 June 2024. There are caveats associated with the datasets used in this analysis. Please refer to individual datasets for further information.",
 "name": "biodiversity/Criterion_1_Biodiversity_values_v1",
 "description": "The Criterion 1: Biodiversity values v1.0 raster (250 m resolution) represents relative across terrestrial Australia, categorised into percentile-based thresholds that highlight areas of comparatively higher biodiversity importance. This layer was generated using a reproducible MCDA workflow implemented in Python and ArcGIS Pro. The workflow includes: Criterion 1: Integrated species diversity, endemism, threatened species and ecosystems, habitat connectivity, and ecosystem services. Inputs included national biodiversity datasets and ecological integrity indicators (e.g. Habitat Condition Assessment System (HCAS), National Connectivity Index (NCI) The final raster reflects areas where this criterion is met with scores out of 1000 and protected areas masked (assigned value of 4000). Higher scores (between 0 to 1000) equate to areas with higher biodiversity values. Identifying biodiversity value and potential to enhance the representativeness of Australia\u2019s Protected Areas using Multi-Criteria Decision Analysis Version 1.0. that describes the data and methods is available at: https://erin.maps.arcgis.com/home/item.html?id=6510ec40d81c43cda8d44e86b81adce2Criterion 1 Inputs: 1. Species diversity Plant diversity spatial layers for Australia (250m) Community-level diversity layers for Australia - Bird Richness, Reptile Richness and Fungi Richness (250m) 2. Regional endemismSpecies of National Environmental Significance \u2013 GDB (1km) Interim Biogeographic Regionalisation for Australia - Subregion 3. Habitat for threatened ecological communities and threatened and migratory speciesDensity of indicative threatened ecological community distributions (1km) Density of threatened and migratory species habitat distributions (1km) 4. Severely threatened species and ecological communities Species of National Environmental Significance \u2013 GDB (1km) Ecological Communities of National Environmental Significance Distributions\u2013 GDB (1km) 5. Ecosystem servicesHCAS Optimised SLGA Products - Available Volumetric Water Capacity to 1m (250m) HCAS Optimised SLGA Products Topsoil & Subsoil Aggregated Soil Attribute Surfaces for Total nitrogen, Total phosphorous and Soil organic carbon (250m) 6. Habitat condition and connectivityHabitat Condition Assessment System (HCAS) 1988 to 2024 (90m) National Connectivity Index (NCI) 1988 to 2024 (90m) Caveats The analysis only uses national data, which may have variable quality and availability across the country. Some of this data is derived from models with their own inherent uncertainty and levels of accuracy that should be considered when using this output. Outputs of this analysis should be considered alongside regional and/or local scale information, particularly when incorporated in the decision-making process. Species distribution models were used to derive multiple input datasets used in this analysis (e.g. species density and regional endemism). These datasets represent different information and use different methodology to derive results. This analysis uses the published Collaborative Australian Protected Areas Database 2024, which does not include areas protected since 30 June 2024. There are caveats associated with the datasets used in this analysis. Please refer to individual datasets for further information.",
 "extent": {
  "xmin": 1.2185125840300001E7,
  "ymin": -5550303.5286,
  "xmax": 1.75068758403E7,
  "ymax": -955303.5285999998,
  "spatialReference": {
   "wkid": 102100,
   "latestWkid": 3857
  }
 },
 "initialExtent": {
  "xmin": 1.2185125840300001E7,
  "ymin": -5550303.5286,
  "xmax": 1.75068758403E7,
  "ymax": -955303.5285999998,
  "spatialReference": {
   "wkid": 102100,
   "latestWkid": 3857
  }
 },
 "fullExtent": {
  "xmin": 1.2185125840300001E7,
  "ymin": -5550303.5286,
  "xmax": 1.75068758403E7,
  "ymax": -955303.5285999998,
  "spatialReference": {
   "wkid": 102100,
   "latestWkid": 3857
  }
 },
 "hasMultidimensions": false,
 "pixelSizeX": 250,
 "pixelSizeY": 250,
 "datasetFormat": "AMD",
 "uncompressedSize": 782510120,
 "blockWidth": 2048,
 "blockHeight": 256,
 "compressionType": "None",
 "bandNames": [
  "Band_1"
 ],
 "allowCopy": true,
 "allowAnalysis": true,
 "bandCount": 1,
 "pixelType": "U16",
 "minPixelSize": 0,
 "maxPixelSize": 0,
 "copyrightText": "Criterion 1: Biodiversity values v1.0: Australia are copyright (c) Commonwealth of Australia, Australian Government Department of Climate Change, Energy, Environment and Water, 2025.",
 "serviceDataType": "esriImageServiceDataTypeThematic",
 "serviceSourceType": "esriImageServiceSourceTypeMosaicDataset",
 "minValues": [
  0
 ],
 "maxValues": [
  4000
 ],
 "meanValues": [
  1119.631834325688
 ],
 "stdvValues": [
  1552.995514943614
 ],
 "objectIdField": "OBJECTID",
 "fields": [
  {
   "name": "OBJECTID",
   "type": "esriFieldTypeOID",
   "alias": "OBJECTID",
   "domain": null
  },
  {
   "name": "Shape",
   "type": "esriFieldTypeGeometry",
   "alias": "Shape",
   "domain": null
  },
  {
   "name": "Name",
   "type": "esriFieldTypeString",
   "alias": "Name",
   "domain": null,
   "length": 200
  },
  {
   "name": "MinPS",
   "type": "esriFieldTypeDouble",
   "alias": "MinPS",
   "domain": null
  },
  {
   "name": "MaxPS",
   "type": "esriFieldTypeDouble",
   "alias": "MaxPS",
   "domain": null
  },
  {
   "name": "LowPS",
   "type": "esriFieldTypeDouble",
   "alias": "LowPS",
   "domain": null
  },
  {
   "name": "HighPS",
   "type": "esriFieldTypeDouble",
   "alias": "HighPS",
   "domain": null
  },
  {
   "name": "Category",
   "type": "esriFieldTypeInteger",
   "alias": "Category",
   "domain": {
    "type": "codedValue",
    "name": "MosaicCatalogItemCategoryDomain",
    "description": "Catalog item categories.",
    "codedValues": [
     {
      "name": "Unknown",
      "code": 0
     },
     {
      "name": "Primary",
      "code": 1
     },
     {
      "name": "Overview",
      "code": 2
     },
     {
      "name": "Unprocessed Overview",
      "code": 3
     },
     {
      "name": "Partial Overview",
      "code": 4
     },
     {
      "name": "Inactive",
      "code": 5
     },
     {
      "name": "Uploaded",
      "code": 253
     },
     {
      "name": "Incomplete",
      "code": 254
     },
     {
      "name": "Custom",
      "code": 255
     }
    ],
    "mergePolicy": "esriMPTDefaultValue",
    "splitPolicy": "esriSPTDefaultValue"
   }
  },
  {
   "name": "Tag",
   "type": "esriFieldTypeString",
   "alias": "Tag",
   "domain": null,
   "length": 100
  },
  {
   "name": "GroupName",
   "type": "esriFieldTypeString",
   "alias": "GroupName",
   "domain": null,
   "length": 100
  },
  {
   "name": "ProductName",
   "type": "esriFieldTypeString",
   "alias": "ProductName",
   "domain": null,
   "length": 100
  },
  {
   "name": "CenterX",
   "type": "esriFieldTypeDouble",
   "alias": "CenterX",
   "domain": null
  },
  {
   "name": "CenterY",
   "type": "esriFieldTypeDouble",
   "alias": "CenterY",
   "domain": null
  },
  {
   "name": "ZOrder",
   "type": "esriFieldTypeInteger",
   "alias": "ZOrder",
   "domain": null
  },
  {
   "name": "Shape_Length",
   "type": "esriFieldTypeDouble",
   "alias": "Shape_Length",
   "domain": null
  },
  {
   "name": "Shape_Area",
   "type": "esriFieldTypeDouble",
   "alias": "Shape_Area",
   "domain": null
  }
 ],
 "capabilities": "Image,Metadata,Mensuration,Catalog,Download",
 "defaultMosaicMethod": "Northwest",
 "allowedMosaicMethods": "NorthWest,Center,LockRaster,ByAttribute,Nadir,Viewpoint,Seamline,None",
 "sortField": "",
 "sortValue": null,
 "sortAscending": true,
 "mosaicOperator": "First",
 "maxDownloadSizeLimit": 2048,
 "defaultCompressionQuality": 75,
 "defaultResamplingMethod": "Bilinear",
 "maxImageHeight": 4100,
 "maxImageWidth": 15000,
 "maxRecordCount": 1000,
 "maxDownloadImageCount": 20,
 "maxMosaicImageCount": 20,
 "allowRasterFunction": true,
 "rasterFunctionInfos": [
  {
   "name": "None",
   "description": "",
   "help": ""
  }
 ],
 "rasterTypeInfos": [
  {
   "name": "Raster Dataset",
   "description": "Supports all ArcGIS Raster Datasets",
   "help": ""
  }
 ],
 "mensurationCapabilities": "Basic",
 "hasHistograms": true,
 "hasColormap": false,
 "hasRasterAttributeTable": true,
 "minScale": 0,
 "maxScale": 0,
 "exportTilesAllowed": false,
 "supportsStatistics": true,
 "supportsAdvancedQueries": true,
 "editFieldsInfo": null,
 "ownershipBasedAccessControlForRasters": null,
 "allowComputeTiePoints": false,
 "useStandardizedQueries": true,
 "advancedQueryCapabilities": {
  "useStandardizedQueries": true,
  "supportsStatistics": true,
  "supportsOrderBy": true,
  "supportsDistinct": true,
  "supportsPagination": true
 },
 "spatialReference": {
  "wkid": 102100,
  "latestWkid": 3857
 }
}
