<?xml version="1.0" encoding="UTF-8" standalone="no"?>
<metadata xml:lang="en">
<Esri>
<CreaDate>20260120</CreaDate>
<CreaTime>15213700</CreaTime>
<ArcGISFormat>1.0</ArcGISFormat>
<SyncOnce>FALSE</SyncOnce>
<DataProperties>
<itemProps>
<itemName Sync="TRUE">Criterion_2_Ecological_representativeness_v1</itemName>
<itemLocation>
<linkage Sync="TRUE">file://\\upvcdcfnafs02.internal.govt\gisfs02\data_public\services_data\bvr\Criterion_2\Criterion_2_Ecological_representativeness_v1_gispubim.gdb</linkage>
<protocol Sync="TRUE">Local Area Network</protocol>
</itemLocation>
<nativeExtBox>
<westBL Sync="TRUE">12190584.107100</westBL>
<eastBL Sync="TRUE">17501084.107100</eastBL>
<southBL Sync="TRUE">-5515271.514100</southBL>
<northBL Sync="TRUE">-955271.514100</northBL>
<exTypeCode Sync="TRUE">1</exTypeCode>
</nativeExtBox>
<imsContentType>002</imsContentType>
</itemProps>
<coordRef>
<type Sync="TRUE">Projected</type>
<geogcsn Sync="TRUE">GCS_WGS_1984</geogcsn>
<csUnits Sync="TRUE">Linear Unit: Meter (1.000000)</csUnits>
<projcsn Sync="TRUE">WGS_1984_Web_Mercator_Auxiliary_Sphere</projcsn>
<peXml Sync="TRUE">&lt;ProjectedCoordinateSystem xsi:type='typens:ProjectedCoordinateSystem' xmlns:xsi='http://www.w3.org/2001/XMLSchema-instance' xmlns:xs='http://www.w3.org/2001/XMLSchema' xmlns:typens='http://www.esri.com/schemas/ArcGIS/3.2.0'&gt;&lt;WKT&gt;PROJCS[&amp;quot;WGS_1984_Web_Mercator_Auxiliary_Sphere&amp;quot;,GEOGCS[&amp;quot;GCS_WGS_1984&amp;quot;,DATUM[&amp;quot;D_WGS_1984&amp;quot;,SPHEROID[&amp;quot;WGS_1984&amp;quot;,6378137.0,298.257223563]],PRIMEM[&amp;quot;Greenwich&amp;quot;,0.0],UNIT[&amp;quot;Degree&amp;quot;,0.0174532925199433]],PROJECTION[&amp;quot;Mercator_Auxiliary_Sphere&amp;quot;],PARAMETER[&amp;quot;False_Easting&amp;quot;,0.0],PARAMETER[&amp;quot;False_Northing&amp;quot;,0.0],PARAMETER[&amp;quot;Central_Meridian&amp;quot;,0.0],PARAMETER[&amp;quot;Standard_Parallel_1&amp;quot;,0.0],PARAMETER[&amp;quot;Auxiliary_Sphere_Type&amp;quot;,0.0],UNIT[&amp;quot;Meter&amp;quot;,1.0],AUTHORITY[&amp;quot;EPSG&amp;quot;,3857]]&lt;/WKT&gt;&lt;XOrigin&gt;-20037700&lt;/XOrigin&gt;&lt;YOrigin&gt;-30241100&lt;/YOrigin&gt;&lt;XYScale&gt;148923141.92838538&lt;/XYScale&gt;&lt;ZOrigin&gt;-100000&lt;/ZOrigin&gt;&lt;ZScale&gt;10000&lt;/ZScale&gt;&lt;MOrigin&gt;-100000&lt;/MOrigin&gt;&lt;MScale&gt;10000&lt;/MScale&gt;&lt;XYTolerance&gt;0.001&lt;/XYTolerance&gt;&lt;ZTolerance&gt;0.001&lt;/ZTolerance&gt;&lt;MTolerance&gt;0.001&lt;/MTolerance&gt;&lt;HighPrecision&gt;true&lt;/HighPrecision&gt;&lt;WKID&gt;102100&lt;/WKID&gt;&lt;LatestWKID&gt;3857&lt;/LatestWKID&gt;&lt;/ProjectedCoordinateSystem&gt;</peXml>
</coordRef>
<RasterProperties>
<General>
<PixelDepth Sync="TRUE">16</PixelDepth>
<HasColormap Sync="TRUE">FALSE</HasColormap>
<CompressionType Sync="TRUE">None</CompressionType>
<NumBands Sync="TRUE">1</NumBands>
<Format Sync="TRUE">AMD</Format>
<HasPyramids Sync="TRUE">TRUE</HasPyramids>
<SourceType Sync="TRUE">continuous</SourceType>
<PixelType Sync="TRUE">unsigned integer</PixelType>
<NoDataValue Sync="TRUE"/>
</General>
<Properties>
<MaxImageHeight Sync="TRUE">4100</MaxImageHeight>
<MaxImageWidth Sync="TRUE">15000</MaxImageWidth>
<MaxRecordCount Sync="TRUE">1000</MaxRecordCount>
<MaxDownloadImageCount Sync="TRUE">20</MaxDownloadImageCount>
<MaxDownloadSizeLimit Sync="TRUE">2048</MaxDownloadSizeLimit>
<MaxMosaicImageCount Sync="TRUE">20</MaxMosaicImageCount>
<DefaultCompressionQuality Sync="TRUE">75</DefaultCompressionQuality>
<DefaultCompressionTolerance Sync="TRUE">0.01</DefaultCompressionTolerance>
<BlendWidth Sync="TRUE">10</BlendWidth>
<ViewpointSpacingX Sync="TRUE">600</ViewpointSpacingX>
<ViewpointSpacingY Sync="TRUE">300</ViewpointSpacingY>
<AllowedItemMetadata Sync="TRUE">Basic</AllowedItemMetadata>
<DefaultResamplingMethod Sync="TRUE">1</DefaultResamplingMethod>
<AllowedMosaicMethods Sync="TRUE">NorthWest,Center,LockRaster,ByAttribute,Nadir,Viewpoint,Seamline,None</AllowedMosaicMethods>
<AllowedCompressions Sync="TRUE">None,JPEG,LZ77,LERC</AllowedCompressions>
<AllowedMensurationCapabilities Sync="TRUE">Basic</AllowedMensurationCapabilities>
<AvailableMensurationCapabilities Sync="TRUE">None,Basic,Base-Top Height,Top-Top Shadow Height,Base-Top Shadow Height,3D</AvailableMensurationCapabilities>
<ClipToBoundary Sync="TRUE">-1</ClipToBoundary>
<FootprintMayContainNoData Sync="TRUE">-1</FootprintMayContainNoData>
<CellSizeTolerance Sync="TRUE">0.8</CellSizeTolerance>
<MinimumPixelContribution Sync="TRUE">1</MinimumPixelContribution>
<AvailableMosaicMethods Sync="TRUE">NorthWest,Center,LockRaster,ByAttribute,Nadir,Viewpoint,Seamline,None</AvailableMosaicMethods>
<AvailableCompressionMethods Sync="TRUE">None,JPEG,LZ77,LERC</AvailableCompressionMethods>
<AvailableItemMetadataLevels Sync="TRUE">None,Basic,Full</AvailableItemMetadataLevels>
<BandDefinitionKeyword Sync="TRUE">NONE</BandDefinitionKeyword>
<_docversion_ Sync="TRUE">10</_docversion_>
<AllowedFields Sync="TRUE">Name,MinPS,MaxPS,LowPS,HighPS,Tag,GroupName,ProductName,CenterX,CenterY,ZOrder,Shape_Length,Shape_Area</AllowedFields>
<ClipToFootprint Sync="TRUE">-1</ClipToFootprint>
<DataType Sync="TRUE">Generic</DataType>
<MaxCellSize Sync="TRUE">180000</MaxCellSize>
<LowCellSize Sync="TRUE">250</LowCellSize>
<HighCellSize Sync="TRUE">18000</HighCellSize>
</Properties>
<Functions Sync="TRUE">
<Function Description="Performs on-the-fly mosaic on a raster catalog." Name="Mosaic Function"/>
</Functions>
</RasterProperties>
</DataProperties>
<SyncDate>20260120</SyncDate>
<SyncTime>15372000</SyncTime>
<ModDate>20260120</ModDate>
<ModTime>15372000</ModTime>
</Esri>
<mdLang>
<languageCode value="eng"/>
<countryCode Sync="TRUE" value="AUS"/>
</mdLang>
<mdChar>
<CharSetCd value="004"/>
</mdChar>
<mdHrLv>
<ScopeCd value="005"/>
</mdHrLv>
<mdHrLvName>dataset</mdHrLvName>
<mdContact>
<rpIndName>​​</rpIndName>
<rpOrgName>​​Australian Government Department of Climate Change, Energy, Environment and Water​ </rpOrgName>
<rpPosName> Director Decision Support &amp; Analysis, Environment Data and Analysis Branch, Environment Information Australia</rpPosName>
<rpCntInfo>
<cntAddress>
<delPoint>GPO Box 3090</delPoint>
<city>​​Canberra​ </city>
<adminArea>ACT</adminArea>
<postCode>2601</postCode>
<country>AU</country>
<eMailAdd>​​geospatial@dcceew.gov.au​ </eMailAdd>
</cntAddress>
<cntOnlineRes>
<linkage>https://www.dcceew.gov.au</linkage>
</cntOnlineRes>
</rpCntInfo>
<role>
<RoleCd value="007"/>
</role>
</mdContact>
<mdDateSt>20260120</mdDateSt>
<mdStanName>ArcGIS Metadata</mdStanName>
<mdStanVer>1.0</mdStanVer>
<distInfo>
<distFormat>
<formatName>GeoTIFF</formatName>
<formatVer>Download</formatVer>
</distFormat>
<distributor>
<distorCont>
<rpIndName>​​</rpIndName>
<rpOrgName>​​Australian Government Department of Climate Change, Energy, Environment and Water​ </rpOrgName>
<rpPosName>Spatial Data Manager</rpPosName>
<rpCntInfo>
<cntAddress>
<delPoint>GPO Box3090</delPoint>
<city>​​Canberra​ </city>
<adminArea>ACT</adminArea>
<postCode>2601</postCode>
<country>AU</country>
<eMailAdd>​​geospatial@dcceew.gov.au​ </eMailAdd>
</cntAddress>
<cntOnlineRes>
<linkage>https://www.dcceew.gov.au</linkage>
</cntOnlineRes>
</rpCntInfo>
<role>
<RoleCd value="005"/>
</role>
</distorCont>
</distributor>
<distTranOps>
<onLineSrc>
<linkage>https://fed.dcceew.gov.au</linkage>
<orDesc>002</orDesc>
<orFunct>
<OnFunctCd value="001"/>
</orFunct>
</onLineSrc>
</distTranOps>
</distInfo>
<dataIdInfo>
<idCitation>
<resTitle>Criterion_2_Ecological_representativeness_v1</resTitle>
<date>
<createDate>2025-12-01</createDate>
</date>
<citRespParty>
<rpIndName>​​</rpIndName>
<rpOrgName>​​Australian Government Department of Climate Change, Energy, Environment and Water​ </rpOrgName>
<rpPosName>Spatial Data Manager</rpPosName>
<rpCntInfo>
<cntAddress>
<delPoint>GPO Box3090</delPoint>
<city>​​Canberra​ </city>
<adminArea>ACT</adminArea>
<postCode>2601</postCode>
<country>AU</country>
<eMailAdd>​​geospatial@dcceew.gov.au​ </eMailAdd>
</cntAddress>
<cntOnlineRes>
<linkage>https://www.dcceew.gov.au</linkage>
</cntOnlineRes>
</rpCntInfo>
<role>
<RoleCd value="002"/>
</role>
</citRespParty>
<citRespParty>
<rpIndName>​​</rpIndName>
<rpOrgName>​​Australian Government Department of Climate Change, Energy, Environment and Water​ </rpOrgName>
<rpPosName>Spatial Data Manager</rpPosName>
<rpCntInfo>
<cntAddress>
<delPoint>GPO Box 3090</delPoint>
<city>​​Canberra​ </city>
<adminArea>ACT</adminArea>
<postCode>2601</postCode>
<country>AU</country>
<eMailAdd>​​geospatial@dcceew.gov.au​ </eMailAdd>
</cntAddress>
<cntOnlineRes>
<linkage>https://www.dcceew.gov.au</linkage>
</cntOnlineRes>
</rpCntInfo>
<role>
<RoleCd value="010"/>
</role>
</citRespParty>
<presForm>
<PresFormCd value="005"/>
</presForm>
</idCitation>
<idAbs>The Criterion 2: Ecological representativeness v1.0 raster (250 m resolution) represents relative scores across terrestrial Australia categorised into percentile-based thresholds that highlight areas that have comparatively low representation and/or protection status. It was generated using a reproducible MCDA workflow implemented in Python and ArcGIS Pro. The workflow includes: Criterion 2: Applied Comprehensive, Adequate and Representative (CAR) principles to assess ecosystem representation and protection across IBRA regions using National Vegetation Information System (NVIS) MVGs and the Collaborative Australia Protected Areas Database. The final raster reflects areas where this criterion is met with scores out of 1000 and protected areas masked (assigned value of 4000). Higher scores (between 0 to 1000) equate to areas that have low ecological representativeness and/or protection in current protected areas. Identifying biodiversity value and potential to enhance the representativeness of Australia’s Protected Areas using Multi-Criteria Decision Analysis Version 1.0. that describes the data and methods is available at: https://erin.maps.arcgis.com/home/item.html?id=6510ec40d81c43cda8d44e86b81adce2Criterion 2 Inputs: Interim Biogeographic Regionalisation for Australia - Regions Interim Biogeographic Regionalisation for Australia - Subregions National Vegetation Information System Pre -1750 MVG (100m) National Vegetation Information System Extant MVG (100m) Collaborative Australian Protected Areas Database - Terrestrial Caveats The analysis only uses national data, which may have variable quality and availability across the country. Some of this data is derived from models with their own inherent uncertainty and levels of accuracy that should be considered when using this output. Outputs of this analysis should be considered alongside regional and/or local scale information, particularly when incorporated in the decision-making process. Species distribution models were used to derive multiple input datasets used in this analysis (e.g. species density and regional endemism). These datasets represent different information and use different methodology to derive results. This analysis uses the published Collaborative Australian Protected Areas Database 2024, which does not include areas protected since 30 June 2024. There are caveats associated with the datasets used in this analysis. Please refer to individual datasets for further information.</idAbs>
<idPurp>The Criterion 2: Ecological representativeness v1.0 dataset shows the results of multi-criteria decision analysis (MCDA) to identify areas in Australia to increase ecological comprehensiveness, adequacy and representativeness of protected areas as defined by Criterion 2 in the National Roadmap for protecting and conserving 30% of Australia’s land by 2030 (National Roadmap). Further information in https://www.dcceew.gov.au/environment/land/achieving-30-by-30/national-roadmap.</idPurp>
<idCredit>Criterion 2: Ecological representativeness v1.0: Australia are copyright (c) Commonwealth of Australia, Australian Government Department of Climate Change, Energy, Environment and Water, 2025.</idCredit>
<idPoC>
<rpIndName>​​</rpIndName>
<rpOrgName>​​Australian Government Department of Climate Change, Energy, Environment and Water​ </rpOrgName>
<rpPosName> Director Decision Support &amp; Analysis, Environment Data and Analysis Branch, Environment Information Australia</rpPosName>
<rpCntInfo>
<cntAddress>
<delPoint>GPO Box 3090</delPoint>
<city>​​Canberra​ </city>
<adminArea>ACT</adminArea>
<postCode>2601</postCode>
<country>AU</country>
<eMailAdd>​​geospatial@dcceew.gov.au​ </eMailAdd>
</cntAddress>
<cntOnlineRes>
<linkage>https://www.dcceew.gov.au</linkage>
</cntOnlineRes>
</rpCntInfo>
<role>
<RoleCd value="007"/>
</role>
</idPoC>
<resMaint>
<maintFreq>
<MaintFreqCd value="009"/>
</maintFreq>
</resMaint>
<otherKeys>
<keyword>30 by 30</keyword>
<keyword>GBF Target 3</keyword>
<keyword>ecological representativeness</keyword>
<keyword>CAR</keyword>
<keyword>Protection</keyword>
<keyword>protected areas</keyword>
<keyword>MCDA</keyword>
<keyword>conservation planning</keyword>
</otherKeys>
<searchKeys>
<keyword>30 by 30</keyword>
<keyword>GBF Target 3</keyword>
<keyword>ecological representativeness</keyword>
<keyword>CAR</keyword>
<keyword>Protection</keyword>
<keyword>protected areas</keyword>
<keyword>MCDA</keyword>
<keyword>conservation planning</keyword>
</searchKeys>
<resConst>
<Consts>
<useLimit>While reasonable efforts have been made to ensure that the contents of this publication are factually correct, the Commonwealth does not accept responsibility for the accuracy or completeness of the contents and shall not be liable for any loss or damage that may be occasioned directly or indirectly through the use of, or reliance on, the contents of this publication.</useLimit>
</Consts>
</resConst>
<resConst>
<LegConsts>
<accessConsts>
<RestrictCd value="005"/>
</accessConsts>
<useConsts>
<RestrictCd value="005"/>
</useConsts>
<othConsts>This dataset has been licensed under the Creative Commons Attribution 4.0 International Licence (CC BY 4.0).More information can be found at http://creativecommons.org.au/learn/licences.</othConsts>
</LegConsts>
</resConst>
<spatRpType>
<SpatRepTypCd value="002"/>
</spatRpType>
<dataLang>
<languageCode value="eng"/>
<countryCode Sync="TRUE" value="AUS"/>
</dataLang>
<dataChar>
<CharSetCd value="004"/>
</dataChar>
<tpCat>
<TopicCatCd value="002"/>
</tpCat>
<tpCat>
<TopicCatCd value="007"/>
</tpCat>
<tpCat>
<TopicCatCd value="008"/>
</tpCat>
<dataExt>
<geoEle>
<GeoBndBox>
<westBL>109.509867278</westBL>
<eastBL>157.213182716</eastBL>
<southBL>-42.767176127</southBL>
<northBL>-8.549459056</northBL>
</GeoBndBox>
</geoEle>
</dataExt>
<envirDesc Sync="TRUE">Microsoft Windows Server 2016 Technical Preview Version 10.0 (Build 17763) ; Esri ArcGIS 13.2.0.49743</envirDesc>
<dataExt>
<geoEle>
<GeoBndBox esriExtentType="search">
<exTypeCode Sync="TRUE">1</exTypeCode>
<westBL Sync="TRUE">109.509880</westBL>
<eastBL Sync="TRUE">157.214913</eastBL>
<northBL Sync="TRUE">-8.549446</northBL>
<southBL Sync="TRUE">-44.321120</southBL>
</GeoBndBox>
</geoEle>
</dataExt>
</dataIdInfo>
<mdMaint>
<maintFreq>
<MaintFreqCd value="009"/>
</maintFreq>
</mdMaint>
<mdConst>
<Consts>
<useLimit>While reasonable efforts have been made to ensure that the contents of this publication are factually correct, the Commonwealth does not accept responsibility for the accuracy or completeness of the contents and shall not be liable for any loss or damage that may be occasioned directly or indirectly through the use of, or reliance on, the contents of this publication. </useLimit>
</Consts>
</mdConst>
<mdConst>
<LegConsts>
<accessConsts>
<RestrictCd value="005"/>
</accessConsts>
<useConsts>
<RestrictCd value="005"/>
</useConsts>
<othConsts>This dataset is licensed under the Creative Commons Attribution 4.0 International (CC BY 4.0) license.</othConsts>
</LegConsts>
</mdConst>
<dqInfo>
<dqScope>
<scpLvl>
<ScopeCd value="005"/>
</scpLvl>
</dqScope>
<dataLineage>
<statement>Criterion 2: Ecological representativeness v1.0 was derived using a Multi-Criteria Decision Analysis workflow implemented in ESRI ArcGIS Pro. Input datasets were the: National Vegetation Information System (v7.0) (NVIS), Collaborative Australian Protected Area Database (CAPAD) (2024) and Interim Biogeographic Regionalisation for Australia (IBRA) Region and Subregion (v7.1) datasets (extracted 16/10/2025). Identifying biodiversity value and potential to enhance the representativeness of Australia’s Protected Areas using Multi-Criteria Decision Analysis Version 1.0. that describes the data and methods is available at: https://erin.maps.arcgis.com/home/item.html?id=6510ec40d81c43cda8d44e86b81adce2
</statement>
<dataSource>
<srcDesc>Data inputs and their sources are described in the following references. Collaborative Australian Protected Areas Database (CAPAD) 2024, Department of Climate Change, Energy, the Environment and Water (2025). National Vegetation Information System data products [Web page]. Retrieved October 16, 2025, from https://www.dcceew.gov.au/environment/environment-information-australia/national-vegetation-information-system/data-products Interim Biogeographic Regionalisation for Australia (IBRA) Version 7.1 – Regions, Department of Climate Change, Energy, the Environment and Water (2025). Interim Biogeographic Regionalisation for Australia (IBRA), Version 7.1 – Regions [Geospatial dataset]. Find Environmental Data. Retrieved October 16, 2025, from https://fed.dcceew.gov.au/datasets/a5a9a356105b4a728d0606194d8bdf38_0/explore Interim Biogeographic Regionalisation for Australia (IBRA) Version 7.1 – Subregions, Department of Climate Change, Energy, the Environment and Water (2025). Interim Biogeographic Regionalisation for Australia (IBRA), Version 7.1 – Subregions [Geospatial dataset]. Find Environmental Data. Retrieved October 16, 2025, from https://fed.dcceew.gov.au/datasets/erin::interim-biogeographic-regionalisation-for-australia-ibra-version-7-1-subregions/about National Vegetation Information System Pre-1750 MVG, Department of Climate Change, Energy, the Environment and Water (2025). Australia – Pre1750 Major Vegetation Groups and Subgroups – NVIS Version 7.0 Rasters [Geospatial dataset]. Find Environmental Data. Retrieved October 16, 2025, from https://fed.dcceew.gov.au/datasets/d82f6eab808542ee9d9a0ea09ea36567/about National Vegetation Information System Extant MVG, Department of Climate Change, Energy, the Environment and Water (2025). National Vegetation Information System (NVIS) Version 7.0 – Extant Vectors [Geospatial dataset]. Find Environmental Data. Retrieved October 16, 2025, from https://fed.dcceew.gov.au/datasets/be9930d6de354ace93fd1aa5d34a71de/about </srcDesc>
</dataSource>
</dataLineage>
</dqInfo>
<spatRepInfo>
<GridSpatRep>
<numDims>2</numDims>
<axisDimension type="002">
<dimSize>16037</dimSize>
<dimResol>
<value uom="m">250</value>
</dimResol>
</axisDimension>
<axisDimension type="001">
<dimSize>15172</dimSize>
<dimResol>
<value uom="m">250</value>
</dimResol>
</axisDimension>
<cellGeo>
<CellGeoCd value="002"/>
</cellGeo>
<tranParaAv>false</tranParaAv>
</GridSpatRep>
<Georect>
<cellGeo>
<CellGeoCd Sync="TRUE" value="002"/>
</cellGeo>
<numDims Sync="TRUE">2</numDims>
<tranParaAv Sync="TRUE">1</tranParaAv>
<chkPtAv Sync="TRUE">0</chkPtAv>
<cornerPts>
<pos Sync="TRUE">12190584.107100 -5515271.514100</pos>
</cornerPts>
<cornerPts>
<pos Sync="TRUE">12190584.107100 -955271.514100</pos>
</cornerPts>
<cornerPts>
<pos Sync="TRUE">17501084.107100 -955271.514100</pos>
</cornerPts>
<cornerPts>
<pos Sync="TRUE">17501084.107100 -5515271.514100</pos>
</cornerPts>
<centerPt>
<pos Sync="TRUE">14845834.107100 -3235271.514100</pos>
</centerPt>
<axisDimension type="002">
<dimSize Sync="TRUE">21242</dimSize>
<dimResol>
<value Sync="TRUE" uom="m">250.000000</value>
</dimResol>
</axisDimension>
<axisDimension type="001">
<dimSize Sync="TRUE">18240</dimSize>
<dimResol>
<value Sync="TRUE" uom="m">250.000000</value>
</dimResol>
</axisDimension>
<ptInPixel>
<PixOrientCd Sync="TRUE" value="001"/>
</ptInPixel>
</Georect>
</spatRepInfo>
<refSysInfo>
<RefSystem>
<refSysID>
<identCode code="3577"/>
<idCodeSpace>EPSG</idCodeSpace>
<idVersion Sync="TRUE">6.18.3(9.3.1.2)</idVersion>
</refSysID>
</RefSystem>
</refSysInfo>
<contInfo>
<ImgDesc>
<contentTyp>
<ContentTypCd Sync="TRUE" value="001"/>
</contentTyp>
<covDim>
<Band>
<dimDescrp Sync="TRUE">Band_1</dimDescrp>
<maxVal Sync="TRUE">4000.000000</maxVal>
<minVal Sync="TRUE">0.000000</minVal>
<bitsPerVal Sync="TRUE">16</bitsPerVal>
<valUnit>
<UOM type="length"/>
</valUnit>
</Band>
</covDim>
</ImgDesc>
</contInfo>
</metadata>
