{ "currentVersion": 10.91, "serviceDescription": "
The density of indicative threatened ecological community distributions is derived from the Department's ecological communities of national environmental significance data. Threatened Ecological Communities (TEC) distributions contain three categories to indicate where their habitat is known, likely or may occur across Australia. The spatial input data was filtered using the following criteria: <\/span><\/p> 1. Distributions for EPBC Act (1999) listed TECs that are Matters of National Environmental Significance (critically endangered or endangered).<\/span><\/p> 2. Contains \u2018known\u2019 and/or \u2018likely to occur\u2019 habitat categories. <\/span><\/p> 3. Marine TECs are included<\/span><\/p> The number of overlaps for each distribution in the selected feature set were counted and gridded to a 0.01 decimal degree (~1km) cell size. <\/span>Note projecting the data will alter the cell size. <\/span>The source distribution for each TEC is determined independently of others and is indicative in nature. As such, a count higher than one may indicate:<\/span><\/p> \u2022 TECs have been mapped in the same habitat or <\/span><\/p> \u2022 TECs are mapped adjacent within the same 1km grid cell or <\/span><\/p> \u2022 TECs distributions have been mapped at different scales or levels of detail <\/span><\/p> Given the indicative nature of the source data which includes data of a range of quality and currency, this output should be used as a guide to the location of TECs across the country.<\/span><\/p> The selection of TEC distributions for inclusion in the count is based on the EPBC Act list of TECs and spatial data in the Department enterprise GIS as at the revision date in the metadata. Current EPBC Act listed TECs are described in the Species Profiles and Threats application (SPRAT: https://www.environment.gov.au/cgi-bin/sprat/public/sprat.pl).<\/span><\/p> <\/p><\/div><\/div><\/div>",
"name": "species/ec_density",
"description": " The density of indicative threatened ecological community distributions is derived from the Department's ecological communities of national environmental significance data. Threatened Ecological Communities (TEC) distributions contain three categories to indicate where their habitat is known, likely or may occur across Australia. The spatial input data was filtered using the following criteria: <\/SPAN><\/P> 1. Distributions for EPBC Act (1999) listed TECs that are Matters of National Environmental Significance (critically endangered or endangered).<\/SPAN><\/P> 2. Contains \u2018known\u2019 and/or \u2018likely to occur\u2019 habitat categories. <\/SPAN><\/P> 3. Marine TECs are included<\/SPAN><\/P> The number of overlaps for each distribution in the selected feature set were counted and gridded to a 0.01 decimal degree (~1km) cell size. <\/SPAN>Note projecting the data will alter the cell size. <\/SPAN>The source distribution for each TEC is determined independently of others and is indicative in nature. As such, a count higher than one may indicate:<\/SPAN><\/P> \u2022 TECs have been mapped in the same habitat or <\/SPAN><\/P> \u2022 TECs are mapped adjacent within the same 1km grid cell or <\/SPAN><\/P> \u2022 TECs distributions have been mapped at different scales or levels of detail <\/SPAN><\/P> Given the indicative nature of the source data which includes data of a range of quality and currency, this output should be used as a guide to the location of TECs across the country.<\/SPAN><\/P> The selection of TEC distributions for inclusion in the count is based on the EPBC Act list of TECs and spatial data in the Department enterprise GIS as at the revision date in the metadata. Current EPBC Act listed TECs are described in the Species Profiles and Threats application (SPRAT: https://www.environment.gov.au/cgi-bin/sprat/public/sprat.pl).<\/SPAN><\/P> <\/P><\/DIV><\/DIV><\/DIV>",
"extent": {
"xmin": 1.28017424925E7,
"ymin": -5408364.158756167,
"xmax": 1.7103127616752088E7,
"ymax": -1373032.6175000006,
"spatialReference": {
"wkid": 102100,
"latestWkid": 3857
}
},
"initialExtent": {
"xmin": 1.28017424925E7,
"ymin": -5408364.158756167,
"xmax": 1.7103127616752088E7,
"ymax": -1373032.6175000006,
"spatialReference": {
"wkid": 102100,
"latestWkid": 3857
}
},
"fullExtent": {
"xmin": 1.28017424925E7,
"ymin": -5408364.158756167,
"xmax": 1.7103127616752088E7,
"ymax": -1373032.6175000006,
"spatialReference": {
"wkid": 102100,
"latestWkid": 3857
}
},
"hasMultidimensions": false,
"pixelSizeX": 1113.194907932735,
"pixelSizeY": 1113.1949079327355,
"datasetFormat": "AMD",
"uncompressedSize": 14007000,
"blockWidth": 2048,
"blockHeight": 256,
"compressionType": "None",
"bandNames": [
"Band_1"
],
"allowCopy": true,
"allowAnalysis": true,
"bandCount": 1,
"pixelType": "U8",
"minPixelSize": 0,
"maxPixelSize": 0,
"copyrightText": "Density of indicative threatened ecological community distributions © Commonwealth of Australia (Department of Climate Change, Energy, the Environment and Water)",
"serviceDataType": "esriImageServiceDataTypeGeneric",
"serviceSourceType": "esriImageServiceSourceTypeMosaicDataset",
"minValues": [
0
],
"maxValues": [
7
],
"meanValues": [
1.3932644044158222
],
"stdvValues": [
0.6263109215008341
],
"objectIdField": "OBJECTID",
"fields": [
{
"name": "OBJECTID",
"type": "esriFieldTypeOID",
"alias": "OBJECTID",
"domain": null
},
{
"name": "Shape",
"type": "esriFieldTypeGeometry",
"alias": "Shape",
"domain": null
},
{
"name": "Name",
"type": "esriFieldTypeString",
"alias": "Name",
"domain": null,
"length": 200
},
{
"name": "Category",
"type": "esriFieldTypeInteger",
"alias": "Category",
"domain": {
"type": "codedValue",
"name": "MosaicCatalogItemCategoryDomain",
"description": "Catalog item categories.",
"codedValues": [
{
"name": "Unknown",
"code": 0
},
{
"name": "Primary",
"code": 1
},
{
"name": "Overview",
"code": 2
},
{
"name": "Unprocessed Overview",
"code": 3
},
{
"name": "Partial Overview",
"code": 4
},
{
"name": "Inactive",
"code": 5
},
{
"name": "Uploaded",
"code": 253
},
{
"name": "Incomplete",
"code": 254
},
{
"name": "Custom",
"code": 255
}
],
"mergePolicy": "esriMPTDefaultValue",
"splitPolicy": "esriSPTDefaultValue"
}
}
],
"capabilities": "Catalog,Mensuration,Pixels,Download,Image",
"defaultMosaicMethod": "Northwest",
"allowedMosaicMethods": "NorthWest,Center,LockRaster,ByAttribute,Nadir,Viewpoint,Seamline,None",
"sortField": "",
"sortValue": null,
"sortAscending": true,
"mosaicOperator": "First",
"maxDownloadSizeLimit": 2048,
"defaultCompressionQuality": 75,
"defaultResamplingMethod": "Nearest",
"maxImageHeight": 4100,
"maxImageWidth": 15000,
"maxRecordCount": 1000,
"maxDownloadImageCount": 20,
"maxMosaicImageCount": 20,
"allowRasterFunction": true,
"rasterFunctionInfos": [
{
"name": "None",
"description": "",
"help": ""
}
],
"rasterTypeInfos": [
{
"name": "Raster Dataset",
"description": "Supports all ArcGIS Raster Datasets",
"help": ""
}
],
"mensurationCapabilities": "",
"hasHistograms": true,
"hasColormap": false,
"hasRasterAttributeTable": false,
"minScale": 0,
"maxScale": 0,
"exportTilesAllowed": false,
"supportsStatistics": true,
"supportsAdvancedQueries": true,
"editFieldsInfo": null,
"ownershipBasedAccessControlForRasters": null,
"allowComputeTiePoints": false,
"useStandardizedQueries": true,
"advancedQueryCapabilities": {
"useStandardizedQueries": true,
"supportsStatistics": true,
"supportsOrderBy": true,
"supportsDistinct": true,
"supportsPagination": true
},
"spatialReference": {
"wkid": 102100,
"latestWkid": 3857
}
}