<?xml version="1.0" encoding="UTF-8" standalone="no"?>
<metadata xml:lang="en">
<Esri>
<CreaDate>20260528</CreaDate>
<CreaTime>00311200</CreaTime>
<ArcGISFormat>1.0</ArcGISFormat>
<SyncOnce>FALSE</SyncOnce>
<DataProperties>
<itemProps>
<itemName Sync="TRUE">sp_density</itemName>
<itemLocation>
<linkage Sync="TRUE">file://\\upvcdcfnafs02.internal.govt\gisfs02\data_public\services_data\species\sp_density\03_gispubim\sp_density.gdb</linkage>
<protocol Sync="TRUE">Local Area Network</protocol>
</itemLocation>
<nativeExtBox>
<westBL Sync="TRUE">12570196.900300</westBL>
<eastBL Sync="TRUE">17103126.565402</eastBL>
<southBL Sync="TRUE">-5445639.690925</southBL>
<northBL Sync="TRUE">-1021803.126800</northBL>
<exTypeCode Sync="TRUE">1</exTypeCode>
</nativeExtBox>
</itemProps>
<coordRef>
<type Sync="TRUE">Projected</type>
<geogcsn Sync="TRUE">GCS_WGS_1984</geogcsn>
<csUnits Sync="TRUE">Linear Unit: Meter (1.000000)</csUnits>
<projcsn Sync="TRUE">WGS_1984_Web_Mercator_Auxiliary_Sphere</projcsn>
<peXml Sync="TRUE">&lt;ProjectedCoordinateSystem xsi:type='typens:ProjectedCoordinateSystem' xmlns:xsi='http://www.w3.org/2001/XMLSchema-instance' xmlns:xs='http://www.w3.org/2001/XMLSchema' xmlns:typens='http://www.esri.com/schemas/ArcGIS/3.3.0'&gt;&lt;WKT&gt;PROJCS[&amp;quot;WGS_1984_Web_Mercator_Auxiliary_Sphere&amp;quot;,GEOGCS[&amp;quot;GCS_WGS_1984&amp;quot;,DATUM[&amp;quot;D_WGS_1984&amp;quot;,SPHEROID[&amp;quot;WGS_1984&amp;quot;,6378137.0,298.257223563]],PRIMEM[&amp;quot;Greenwich&amp;quot;,0.0],UNIT[&amp;quot;Degree&amp;quot;,0.0174532925199433]],PROJECTION[&amp;quot;Mercator_Auxiliary_Sphere&amp;quot;],PARAMETER[&amp;quot;False_Easting&amp;quot;,0.0],PARAMETER[&amp;quot;False_Northing&amp;quot;,0.0],PARAMETER[&amp;quot;Central_Meridian&amp;quot;,0.0],PARAMETER[&amp;quot;Standard_Parallel_1&amp;quot;,0.0],PARAMETER[&amp;quot;Auxiliary_Sphere_Type&amp;quot;,0.0],UNIT[&amp;quot;Meter&amp;quot;,1.0],AUTHORITY[&amp;quot;EPSG&amp;quot;,3857]]&lt;/WKT&gt;&lt;XOrigin&gt;-20037700&lt;/XOrigin&gt;&lt;YOrigin&gt;-30241100&lt;/YOrigin&gt;&lt;XYScale&gt;148923141.92838538&lt;/XYScale&gt;&lt;ZOrigin&gt;-100000&lt;/ZOrigin&gt;&lt;ZScale&gt;10000&lt;/ZScale&gt;&lt;MOrigin&gt;-100000&lt;/MOrigin&gt;&lt;MScale&gt;10000&lt;/MScale&gt;&lt;XYTolerance&gt;0.001&lt;/XYTolerance&gt;&lt;ZTolerance&gt;0.001&lt;/ZTolerance&gt;&lt;MTolerance&gt;0.001&lt;/MTolerance&gt;&lt;HighPrecision&gt;true&lt;/HighPrecision&gt;&lt;WKID&gt;102100&lt;/WKID&gt;&lt;LatestWKID&gt;3857&lt;/LatestWKID&gt;&lt;/ProjectedCoordinateSystem&gt;</peXml>
</coordRef>
<RasterProperties>
<General>
<PixelDepth Sync="TRUE">8</PixelDepth>
<HasColormap Sync="TRUE">FALSE</HasColormap>
<CompressionType Sync="TRUE">None</CompressionType>
<NumBands Sync="TRUE">1</NumBands>
<Format Sync="TRUE">AMD</Format>
<HasPyramids Sync="TRUE">TRUE</HasPyramids>
<SourceType Sync="TRUE">continuous</SourceType>
<PixelType Sync="TRUE">unsigned integer</PixelType>
<NoDataValue Sync="TRUE"/>
</General>
<Properties>
<MaxImageHeight Sync="TRUE">4100</MaxImageHeight>
<MaxImageWidth Sync="TRUE">15000</MaxImageWidth>
<MaxRecordCount Sync="TRUE">1000</MaxRecordCount>
<MaxDownloadImageCount Sync="TRUE">20</MaxDownloadImageCount>
<MaxDownloadSizeLimit Sync="TRUE">2048</MaxDownloadSizeLimit>
<MaxMosaicImageCount Sync="TRUE">20</MaxMosaicImageCount>
<DefaultCompressionQuality Sync="TRUE">75</DefaultCompressionQuality>
<DefaultCompressionTolerance Sync="TRUE">0.01</DefaultCompressionTolerance>
<BlendWidth Sync="TRUE">10</BlendWidth>
<ViewpointSpacingX Sync="TRUE">600</ViewpointSpacingX>
<ViewpointSpacingY Sync="TRUE">300</ViewpointSpacingY>
<AllowedItemMetadata Sync="TRUE">Basic</AllowedItemMetadata>
<DefaultResamplingMethod Sync="TRUE">1</DefaultResamplingMethod>
<AllowedMosaicMethods Sync="TRUE">NorthWest,Center,LockRaster,ByAttribute,Nadir,Viewpoint,Seamline,None</AllowedMosaicMethods>
<AllowedCompressions Sync="TRUE">None,JPEG,LZ77,LERC</AllowedCompressions>
<AllowedMensurationCapabilities Sync="TRUE">Basic</AllowedMensurationCapabilities>
<AvailableMensurationCapabilities Sync="TRUE">None,Basic,Base-Top Height,Top-Top Shadow Height,Base-Top Shadow Height,3D</AvailableMensurationCapabilities>
<ClipToBoundary Sync="TRUE">-1</ClipToBoundary>
<FootprintMayContainNoData Sync="TRUE">-1</FootprintMayContainNoData>
<CellSizeTolerance Sync="TRUE">0.8</CellSizeTolerance>
<MinimumPixelContribution Sync="TRUE">1</MinimumPixelContribution>
<AvailableMosaicMethods Sync="TRUE">NorthWest,Center,LockRaster,ByAttribute,Nadir,Viewpoint,Seamline,None</AvailableMosaicMethods>
<AvailableCompressionMethods Sync="TRUE">None,JPEG,LZ77,LERC</AvailableCompressionMethods>
<AvailableItemMetadataLevels Sync="TRUE">None,Basic,Full</AvailableItemMetadataLevels>
<BandDefinitionKeyword Sync="TRUE">NONE</BandDefinitionKeyword>
<_docversion_ Sync="TRUE">10</_docversion_>
<AllowedFields Sync="TRUE">Name,MinPS,MaxPS,LowPS,HighPS,Tag,GroupName,ProductName,CenterX,CenterY,ZOrder,Shape_Length,Shape_Area</AllowedFields>
<ClipToFootprint Sync="TRUE">-1</ClipToFootprint>
<DataType Sync="TRUE">Generic</DataType>
<MaxCellSize Sync="TRUE">200375.083427892</MaxCellSize>
<LowCellSize Sync="TRUE">1113.19490793274</LowCellSize>
<HighCellSize Sync="TRUE">20037.5083427892</HighCellSize>
</Properties>
<Functions Sync="TRUE">
<Function Description="Performs on-the-fly mosaic on a raster catalog." Name="Mosaic Function"/>
</Functions>
</RasterProperties>
</DataProperties>
<SyncDate>20260528</SyncDate>
<SyncTime>00365200</SyncTime>
<ModDate>20260528</ModDate>
<ModTime>00365200</ModTime>
</Esri>
<dataIdInfo>
<envirDesc Sync="TRUE">Microsoft Windows Server 2016 Technical Preview Version 10.0 (Build 17763) ; Esri ArcGIS 13.3.0.52636</envirDesc>
<dataLang>
<languageCode Sync="TRUE" value="eng"/>
<countryCode Sync="TRUE" value="AUS"/>
</dataLang>
<idCitation>
<resTitle Sync="TRUE">sp_density</resTitle>
<presForm>
<PresFormCd Sync="TRUE" value="005"/>
</presForm>
</idCitation>
<spatRpType>
<SpatRepTypCd Sync="TRUE" value="002"/>
</spatRpType>
<dataExt>
<geoEle>
<GeoBndBox esriExtentType="search">
<exTypeCode Sync="TRUE">1</exTypeCode>
<westBL Sync="TRUE">112.920000</westBL>
<eastBL Sync="TRUE">153.640000</eastBL>
<northBL Sync="TRUE">-9.140000</northBL>
<southBL Sync="TRUE">-43.871900</southBL>
</GeoBndBox>
</geoEle>
</dataExt>
<idAbs>&lt;DIV STYLE="text-align:Left;"&gt;&lt;DIV&gt;&lt;DIV&gt;&lt;P&gt;&lt;SPAN&gt;The density of threatened and migratory species distributions grid is derived from the Department's Species of National Environmental Significance modelled distribution data. All threatened and most migratory species, for which Australia is part of the normal range, are modelled using three categories to indicate where their habitat is known, likely or may occur across Australia. The spatial input data was filtered using the following criteria: &lt;/SPAN&gt;&lt;/P&gt;&lt;P&gt;&lt;SPAN&gt;1. Distributions for EPBC Act (1999) listed species that are Matters of National Environmental Significance (vulnerable, endangered, critically endangered, extinct in the wild or migratory – where mapped within the Australian context) &lt;/SPAN&gt;&lt;/P&gt;&lt;P&gt;&lt;SPAN&gt;2. Contains ‘known’ and/or ‘likely to occur’ modelled habitat categories. Species with only ‘may occur’ habitat modelled are not included in the counts. &lt;/SPAN&gt;&lt;/P&gt;&lt;P&gt;&lt;SPAN&gt;3. High-level habitat filtering based on taxonomy, EPBC Act status and traits to include only terrestrial species or species that have some portion of their lifecycle modelled in terrestrial (freshwater aquatic, estuarine, shore-based or intertidal) environments. This includes all plants (including mangroves), migratory marine species that have mapped breeding sites on land, such as marine turtles or birds, and any animals that move between freshwater, estuarine and marine environments. In some cases, for migratory birds, full range distributions are not mapped and only the known and likely breeding habitat is mapped on land. Where a broader distribution including marine habitats has been mapped, the known and likely categories have been clipped to the Commonwealth of Australia (Geoscience Australia) GEODATA COAST 100K 2004. External territories and islands not present in the 100k coastline dataset are therefore not represented in this derived dataset. &lt;/SPAN&gt;&lt;/P&gt;&lt;P&gt;&lt;SPAN&gt;The number of overlaps for each distribution in the selected feature set were counted and gridded to a 0.01 decimal degree (~1km) cell size. &lt;/SPAN&gt;&lt;SPAN&gt;Note projecting the data will alter the cell size. &lt;/SPAN&gt;&lt;SPAN&gt;Given the indicative nature of the source data which includes models of a range of quality and currency, this output should be used as guide showing the relative density of the selected species modelled habitat&lt;/SPAN&gt;&lt;SPAN&gt;. The initial raster stretch in ArcGIS Online Map Viewer may appear dark. To improve visibility, it is recommended to change Image Enhancement: Symbology Type to Unique Values and apply a suitable colour ramp.&lt;/SPAN&gt;&lt;/P&gt;&lt;/DIV&gt;&lt;/DIV&gt;&lt;/DIV&gt;</idAbs>
<searchKeys>
<keyword>Fauna Native</keyword>
<keyword>Flora Native</keyword>
</searchKeys>
<idPurp>The density of threatened and migratory species distributions grid provides a national summary of likely habitat for terrestrial species that are Matters of National Environmental Significance. The raster dataset illustrates relative concentration of modelled habitat over the mainland and larger islands of Australia for threatened and migratory species listed under the Environment Protection Biodiversity Conservation Act (1999).</idPurp>
<idCredit>Density of threatened and migratory species distributions © Commonwealth of Australia (Department of Climate Change, Energy, the Environment and Water)</idCredit>
<resConst>
<Consts>
<useLimit>&lt;DIV STYLE="text-align:Left;"&gt;&lt;DIV&gt;&lt;DIV&gt;&lt;P&gt;&lt;SPAN&gt;L&lt;/SPAN&gt;&lt;SPAN&gt;icensed under&lt;/SPAN&gt;&lt;SPAN&gt; &lt;/SPAN&gt;&lt;SPAN&gt;t&lt;/SPAN&gt;&lt;SPAN&gt;he Creative Commons Attribution 4.0 International License (CC BY 4.0). More information can be found at: &lt;/SPAN&gt;&lt;SPAN&gt;https://&lt;/SPAN&gt;&lt;SPAN&gt;creativecommons.org.&lt;/SPAN&gt;&lt;/P&gt;&lt;/DIV&gt;&lt;/DIV&gt;&lt;/DIV&gt;</useLimit>
</Consts>
</resConst>
</dataIdInfo>
<mdLang>
<languageCode Sync="TRUE" value="eng"/>
<countryCode Sync="TRUE" value="AUS"/>
</mdLang>
<refSysInfo>
<RefSystem>
<refSysID>
<identCode Sync="TRUE" code="3857"/>
<idCodeSpace Sync="TRUE">EPSG</idCodeSpace>
<idVersion Sync="TRUE">6.18.3(9.3.1.2)</idVersion>
</refSysID>
</RefSystem>
</refSysInfo>
<spatRepInfo>
<Georect>
<cellGeo>
<CellGeoCd Sync="TRUE" value="002"/>
</cellGeo>
<numDims Sync="TRUE">2</numDims>
<tranParaAv Sync="TRUE">1</tranParaAv>
<chkPtAv Sync="TRUE">0</chkPtAv>
<cornerPts>
<pos Sync="TRUE">12570196.900300 -5445639.690925</pos>
</cornerPts>
<cornerPts>
<pos Sync="TRUE">12570196.900300 -1021803.126800</pos>
</cornerPts>
<cornerPts>
<pos Sync="TRUE">17103126.565402 -1021803.126800</pos>
</cornerPts>
<cornerPts>
<pos Sync="TRUE">17103126.565402 -5445639.690925</pos>
</cornerPts>
<centerPt>
<pos Sync="TRUE">14836661.732851 -3233721.408862</pos>
</centerPt>
<axisDimension type="002">
<dimSize Sync="TRUE">4072</dimSize>
<dimResol>
<value Sync="TRUE" uom="m">1113.194908</value>
</dimResol>
</axisDimension>
<axisDimension type="001">
<dimSize Sync="TRUE">3974</dimSize>
<dimResol>
<value Sync="TRUE" uom="m">1113.194908</value>
</dimResol>
</axisDimension>
<ptInPixel>
<PixOrientCd Sync="TRUE" value="001"/>
</ptInPixel>
</Georect>
</spatRepInfo>
<contInfo>
<ImgDesc>
<contentTyp>
<ContentTypCd Sync="TRUE" value="001"/>
</contentTyp>
<covDim>
<Band>
<dimDescrp Sync="TRUE">Band_1</dimDescrp>
<maxVal Sync="TRUE">66.000000</maxVal>
<minVal Sync="TRUE">0.000000</minVal>
<bitsPerVal Sync="TRUE">8</bitsPerVal>
<valUnit>
<UOM type="length"/>
</valUnit>
</Band>
</covDim>
</ImgDesc>
</contInfo>
<mdDateSt Sync="TRUE">20260528</mdDateSt>
</metadata>
