{ "currentVersion": 10.91, "serviceDescription": "
The density of threatened and migratory species distributions grid is derived from the Department's Species of National Environmental Significance modelled distribution data. All threatened and most migratory species, for which Australia is part of the normal range, are modelled using three categories to indicate where their habitat is known, likely or may occur across Australia. The spatial input data was filtered using the following criteria: <\/span><\/p> 1. Distributions for EPBC Act (1999) listed species that are Matters of National Environmental Significance (vulnerable, endangered, critically endangered, extinct in the wild or migratory \u2013 where mapped within the Australian context) <\/span><\/p> 2. Contains \u2018known\u2019 and/or \u2018likely to occur\u2019 modelled habitat categories. Species with only \u2018may occur\u2019 habitat modelled are not included in the counts. <\/span><\/p> 3. High-level habitat filtering based on taxonomy, EPBC Act status and traits to include only terrestrial species or species that have some portion of their lifecycle modelled in terrestrial (freshwater aquatic, estuarine, shore-based or intertidal) environments. This includes all plants (including mangroves), migratory marine species that have mapped breeding sites on land, such as marine turtles or birds, and any animals that move between freshwater, estuarine and marine environments. In some cases, for migratory birds, full range distributions are not mapped and only the known and likely breeding habitat is mapped on land. Where a broader distribution including marine habitats has been mapped, the known and likely categories have been clipped to the Commonwealth of Australia (Geoscience Australia) GEODATA COAST 100K 2004. External territories and islands not present in the 100k coastline dataset are therefore not represented in this derived dataset. <\/span><\/p> The number of overlaps for each distribution in the selected feature set were counted and gridded to a 0.01 decimal degree (~1km) cell size. <\/span>Note projecting the data will alter the cell size. <\/span>Given the indicative nature of the source data which includes models of a range of quality and currency, this output should be used as guide showing the relative density of the selected species modelled habitat<\/span>. The initial raster stretch in ArcGIS Online Map Viewer may appear dark. To improve visibility, it is recommended to change Image Enhancement: Symbology Type to Unique Values and apply a suitable colour ramp.<\/span><\/p><\/div><\/div><\/div>",
"name": "species/sp_density",
"description": " The density of threatened and migratory species distributions grid is derived from the Department's Species of National Environmental Significance modelled distribution data. All threatened and most migratory species, for which Australia is part of the normal range, are modelled using three categories to indicate where their habitat is known, likely or may occur across Australia. The spatial input data was filtered using the following criteria: <\/SPAN><\/P> 1. Distributions for EPBC Act (1999) listed species that are Matters of National Environmental Significance (vulnerable, endangered, critically endangered, extinct in the wild or migratory \u2013 where mapped within the Australian context) <\/SPAN><\/P> 2. Contains \u2018known\u2019 and/or \u2018likely to occur\u2019 modelled habitat categories. Species with only \u2018may occur\u2019 habitat modelled are not included in the counts. <\/SPAN><\/P> 3. High-level habitat filtering based on taxonomy, EPBC Act status and traits to include only terrestrial species or species that have some portion of their lifecycle modelled in terrestrial (freshwater aquatic, estuarine, shore-based or intertidal) environments. This includes all plants (including mangroves), migratory marine species that have mapped breeding sites on land, such as marine turtles or birds, and any animals that move between freshwater, estuarine and marine environments. In some cases, for migratory birds, full range distributions are not mapped and only the known and likely breeding habitat is mapped on land. Where a broader distribution including marine habitats has been mapped, the known and likely categories have been clipped to the Commonwealth of Australia (Geoscience Australia) GEODATA COAST 100K 2004. External territories and islands not present in the 100k coastline dataset are therefore not represented in this derived dataset. <\/SPAN><\/P> The number of overlaps for each distribution in the selected feature set were counted and gridded to a 0.01 decimal degree (~1km) cell size. <\/SPAN>Note projecting the data will alter the cell size. <\/SPAN>Given the indicative nature of the source data which includes models of a range of quality and currency, this output should be used as guide showing the relative density of the selected species modelled habitat<\/SPAN>. The initial raster stretch in ArcGIS Online Map Viewer may appear dark. To improve visibility, it is recommended to change Image Enhancement: Symbology Type to Unique Values and apply a suitable colour ramp.<\/SPAN><\/P><\/DIV><\/DIV><\/DIV>",
"extent": {
"xmin": 1.25701969003E7,
"ymin": -5445639.690924692,
"xmax": 1.7103126565402098E7,
"ymax": -1021803.1267999997,
"spatialReference": {
"wkid": 102100,
"latestWkid": 3857
}
},
"initialExtent": {
"xmin": 1.25701969003E7,
"ymin": -5445639.690924692,
"xmax": 1.7103126565402098E7,
"ymax": -1021803.1267999997,
"spatialReference": {
"wkid": 102100,
"latestWkid": 3857
}
},
"fullExtent": {
"xmin": 1.25701969003E7,
"ymin": -5445639.690924692,
"xmax": 1.7103126565402098E7,
"ymax": -1021803.1267999997,
"spatialReference": {
"wkid": 102100,
"latestWkid": 3857
}
},
"hasMultidimensions": false,
"pixelSizeX": 1113.1949079327353,
"pixelSizeY": 1113.1949079327358,
"datasetFormat": "AMD",
"uncompressedSize": 16182128,
"blockWidth": 2048,
"blockHeight": 256,
"compressionType": "None",
"bandNames": [
"Band_1"
],
"allowCopy": true,
"allowAnalysis": true,
"bandCount": 1,
"pixelType": "U8",
"minPixelSize": 0,
"maxPixelSize": 0,
"copyrightText": "Density of threatened and migratory species distributions © Commonwealth of Australia (Department of Climate Change, Energy, the Environment and Water)",
"serviceDataType": "esriImageServiceDataTypeGeneric",
"serviceSourceType": "esriImageServiceSourceTypeMosaicDataset",
"minValues": [
0
],
"maxValues": [
66
],
"meanValues": [
3.087199414285856
],
"stdvValues": [
5.160726881366497
],
"objectIdField": "OBJECTID",
"fields": [
{
"name": "OBJECTID",
"type": "esriFieldTypeOID",
"alias": "OBJECTID",
"domain": null
},
{
"name": "Shape",
"type": "esriFieldTypeGeometry",
"alias": "Shape",
"domain": null
},
{
"name": "Name",
"type": "esriFieldTypeString",
"alias": "Name",
"domain": null,
"length": 200
},
{
"name": "Category",
"type": "esriFieldTypeInteger",
"alias": "Category",
"domain": {
"type": "codedValue",
"name": "MosaicCatalogItemCategoryDomain",
"description": "Catalog item categories.",
"codedValues": [
{
"name": "Unknown",
"code": 0
},
{
"name": "Primary",
"code": 1
},
{
"name": "Overview",
"code": 2
},
{
"name": "Unprocessed Overview",
"code": 3
},
{
"name": "Partial Overview",
"code": 4
},
{
"name": "Inactive",
"code": 5
},
{
"name": "Uploaded",
"code": 253
},
{
"name": "Incomplete",
"code": 254
},
{
"name": "Custom",
"code": 255
}
],
"mergePolicy": "esriMPTDefaultValue",
"splitPolicy": "esriSPTDefaultValue"
}
}
],
"capabilities": "Catalog,Mensuration,Pixels,Download,Image,Metadata",
"defaultMosaicMethod": "Northwest",
"allowedMosaicMethods": "NorthWest,Center,LockRaster,ByAttribute,Nadir,Viewpoint,Seamline,None",
"sortField": "",
"sortValue": null,
"sortAscending": true,
"mosaicOperator": "First",
"maxDownloadSizeLimit": 2048,
"defaultCompressionQuality": 75,
"defaultResamplingMethod": "Nearest",
"maxImageHeight": 4100,
"maxImageWidth": 15000,
"maxRecordCount": 1000,
"maxDownloadImageCount": 20,
"maxMosaicImageCount": 20,
"allowRasterFunction": true,
"rasterFunctionInfos": [
{
"name": "None",
"description": "",
"help": ""
}
],
"rasterTypeInfos": [
{
"name": "Raster Dataset",
"description": "Supports all ArcGIS Raster Datasets",
"help": ""
}
],
"mensurationCapabilities": "Basic",
"hasHistograms": true,
"hasColormap": false,
"hasRasterAttributeTable": false,
"minScale": 0,
"maxScale": 0,
"exportTilesAllowed": false,
"supportsStatistics": true,
"supportsAdvancedQueries": true,
"editFieldsInfo": null,
"ownershipBasedAccessControlForRasters": null,
"allowComputeTiePoints": false,
"useStandardizedQueries": true,
"advancedQueryCapabilities": {
"useStandardizedQueries": true,
"supportsStatistics": true,
"supportsOrderBy": true,
"supportsDistinct": true,
"supportsPagination": true
},
"spatialReference": {
"wkid": 102100,
"latestWkid": 3857
}
}