View In:
ArcGIS JavaScript
ArcGIS Online Map Viewer
ArcGIS Earth
ArcMap
View Footprint In:
ArcGIS Online Map Viewer
Service Description: The Combined: Biodiversity values and representativeness v1.0 raster (250 m resolution) represents relative scores across terrestrial Australia categorised into percentile-based thresholds that highlight areas of comparatively higher importance to protect. It was generated using a reproducible MCDA workflow implemented in Python and ArcGIS Pro. The workflow includes: Criterion 1: Integrated species diversity, endemism, threatened species and ecosystems, habitat connectivity, and ecosystem services. Inputs included national biodiversity datasets and ecological integrity indicators (e.g. Habitat Condition Assessment System (HCAS), National Connectivity Index (NCI). Criterion 2: Applied Comprehensive, Adequate and Representative (CAR) principles to assess ecosystem representation and protection across IBRA regions using National Vegetation Information System (NVIS) MVGs and the Collaborative Australia Protected Areas Database. Combined: Criteria 1 and 2 were combined by summing the scores of each layer and converted to be out of 100. Values in Criterion 1 that were between 0 and 49% (0 to 49% category) were excluded from the model before combining Criterion 1 and 2 layers. The excluded values were assigned a value of 6000 to allow easy identification. Note: The excluded values do not contribute to either Criterion 1 or Criterion 2 in the final combined surface. The final raster reflects areas where the above criteria are met with scores of biodiversity values and representativeness out of 1000. Higher scores represent areas with higher biodiversity values and low representativeness and protection. Protected areas are assigned a value of 4000 and excluded values are assigned a value of 6000. Identifying biodiversity value and potential to enhance the representativeness of Australia’s Protected Areas using Multi-Criteria Decision Analysis Version 1.0. that describes the data and methods is available at: https://erin.maps.arcgis.com/home/item.html?id=6510ec40d81c43cda8d44e86b81adce2Criterion 1 Inputs: 1. Species diversity Plant diversity spatial layers for Australia (250m) Community-level diversity layers for Australia - Bird Richness, Reptile Richness and Fungi Richness (250m) 2. Regional endemismSpecies of National Environmental Significance – GDB (1km) Interim Biogeographic Regionalisation for Australia - Subregion 3. Habitat for threatened ecological communities and threatened and migratory speciesDensity of indicative threatened ecological community distributions (1km) Density of threatened and migratory species habitat distributions (1km) 4. Severely threatened species and ecological communities Species of National Environmental Significance – GDB (1km) Ecological Communities of National Environmental Significance Distributions– GDB (1km) 5. Ecosystem servicesHCAS Optimised SLGA Products - Available Volumetric Water Capacity to 1m (250m) HCAS Optimised SLGA Products Topsoil & Subsoil Aggregated Soil Attribute Surfaces for Total nitrogen, Total phosphorous and Soil organic carbon (250m) 6. Habitat condition and connectivityHabitat Condition Assessment System (HCAS) 1988 to 2024 (90m) National Connectivity Index (NCI) 1988 to 2024 (90m) Criterion 2 Inputs: Interim Biogeographic Regionalisation for Australia - Regions Interim Biogeographic Regionalisation for Australia - Subregions National Vegetation Information System Pre -1750 MVG (100m) National Vegetation Information System Extant MVG (100m) Collaborative Australian Protected Areas Database - Terrestrial Caveats The analysis only uses national data, which may have variable quality and availability across the country. Some of this data is derived from models with their own inherent uncertainty and levels of accuracy that should be considered when using this output. Outputs of this analysis should be considered alongside regional and/or local scale information, particularly when incorporated in the decision-making process. Species distribution models were used to derive multiple input datasets used in this analysis (e.g. species density and regional endemism). These datasets represent different information and use different methodology to derive results. This analysis uses the published Collaborative Australian Protected Areas Database 2024, which does not include areas protected since 30 June 2024. There are caveats associated with the datasets used in this analysis. Please refer to individual datasets for further information.
Name: biodiversity/Combined_Biodiversity_values_and_representativeness_v1
Description: The Combined: Biodiversity values and representativeness v1.0 raster (250 m resolution) represents relative scores across terrestrial Australia categorised into percentile-based thresholds that highlight areas of comparatively higher importance to protect. It was generated using a reproducible MCDA workflow implemented in Python and ArcGIS Pro. The workflow includes: Criterion 1: Integrated species diversity, endemism, threatened species and ecosystems, habitat connectivity, and ecosystem services. Inputs included national biodiversity datasets and ecological integrity indicators (e.g. Habitat Condition Assessment System (HCAS), National Connectivity Index (NCI). Criterion 2: Applied Comprehensive, Adequate and Representative (CAR) principles to assess ecosystem representation and protection across IBRA regions using National Vegetation Information System (NVIS) MVGs and the Collaborative Australia Protected Areas Database. Combined: Criteria 1 and 2 were combined by summing the scores of each layer and converted to be out of 100. Values in Criterion 1 that were between 0 and 49% (0 to 49% category) were excluded from the model before combining Criterion 1 and 2 layers. The excluded values were assigned a value of 6000 to allow easy identification. Note: The excluded values do not contribute to either Criterion 1 or Criterion 2 in the final combined surface. The final raster reflects areas where the above criteria are met with scores of biodiversity values and representativeness out of 1000. Higher scores represent areas with higher biodiversity values and low representativeness and protection. Protected areas are assigned a value of 4000 and excluded values are assigned a value of 6000. Identifying biodiversity value and potential to enhance the representativeness of Australia’s Protected Areas using Multi-Criteria Decision Analysis Version 1.0. that describes the data and methods is available at: https://erin.maps.arcgis.com/home/item.html?id=6510ec40d81c43cda8d44e86b81adce2Criterion 1 Inputs: 1. Species diversity Plant diversity spatial layers for Australia (250m) Community-level diversity layers for Australia - Bird Richness, Reptile Richness and Fungi Richness (250m) 2. Regional endemismSpecies of National Environmental Significance – GDB (1km) Interim Biogeographic Regionalisation for Australia - Subregion 3. Habitat for threatened ecological communities and threatened and migratory speciesDensity of indicative threatened ecological community distributions (1km) Density of threatened and migratory species habitat distributions (1km) 4. Severely threatened species and ecological communities Species of National Environmental Significance – GDB (1km) Ecological Communities of National Environmental Significance Distributions– GDB (1km) 5. Ecosystem servicesHCAS Optimised SLGA Products - Available Volumetric Water Capacity to 1m (250m) HCAS Optimised SLGA Products Topsoil & Subsoil Aggregated Soil Attribute Surfaces for Total nitrogen, Total phosphorous and Soil organic carbon (250m) 6. Habitat condition and connectivityHabitat Condition Assessment System (HCAS) 1988 to 2024 (90m) National Connectivity Index (NCI) 1988 to 2024 (90m) Criterion 2 Inputs: Interim Biogeographic Regionalisation for Australia - Regions Interim Biogeographic Regionalisation for Australia - Subregions National Vegetation Information System Pre -1750 MVG (100m) National Vegetation Information System Extant MVG (100m) Collaborative Australian Protected Areas Database - Terrestrial Caveats The analysis only uses national data, which may have variable quality and availability across the country. Some of this data is derived from models with their own inherent uncertainty and levels of accuracy that should be considered when using this output. Outputs of this analysis should be considered alongside regional and/or local scale information, particularly when incorporated in the decision-making process. Species distribution models were used to derive multiple input datasets used in this analysis (e.g. species density and regional endemism). These datasets represent different information and use different methodology to derive results. This analysis uses the published Collaborative Australian Protected Areas Database 2024, which does not include areas protected since 30 June 2024. There are caveats associated with the datasets used in this analysis. Please refer to individual datasets for further information.
Single Fused Map Cache: false
Extent:
XMin: 1.21906854118E7
YMin: -5515047.926399998
XMax: 1.75006854118E7
YMax: -955297.9263999984
Spatial Reference: 102100
(3857)
Initial Extent:
XMin: 1.21906854118E7
YMin: -5515047.926399998
XMax: 1.75006854118E7
YMax: -955297.9263999984
Spatial Reference: 102100
(3857)
Full Extent:
XMin: 1.21906854118E7
YMin: -5515047.926399998
XMax: 1.75006854118E7
YMax: -955297.9263999984
Spatial Reference: 102100
(3857)
Pixel Size X: 250.0
Pixel Size Y: 250.0
Band Count: 1
Pixel Type: U16
RasterFunction Infos: {"rasterFunctionInfos": [{
"name": "None",
"description": "",
"help": ""
}]}
Mensuration Capabilities: Basic
Has Histograms: true
Has Colormap: false
Has Multi Dimensions : false
Rendering Rule:
Min Scale: 0
Max Scale: 0
Copyright Text: Combined: Biodiversity values and representativeness v1.0: Australia are copyright (c) Commonwealth of Australia, Australian Government Department of Climate Change, Energy, Environment and Water, 2025.
Service Data Type: esriImageServiceDataTypeThematic
Min Values: 156.435546875
Max Values: 5988.564453125
Mean Values: 3608.7865153377916
Standard Deviation Values: 2460.337126579737
Object ID Field: OBJECTID
Fields:
-
OBJECTID
(
type: esriFieldTypeOID, alias: OBJECTID
)
-
Shape
(
type: esriFieldTypeGeometry, alias: Shape
)
-
Name
(
type: esriFieldTypeString, alias: Name, length: 200
)
-
MinPS
(
type: esriFieldTypeDouble, alias: MinPS
)
-
MaxPS
(
type: esriFieldTypeDouble, alias: MaxPS
)
-
LowPS
(
type: esriFieldTypeDouble, alias: LowPS
)
-
HighPS
(
type: esriFieldTypeDouble, alias: HighPS
)
-
Category
(
type: esriFieldTypeInteger, alias: Category
, Coded Values:
[0: Unknown]
, [1: Primary]
, [2: Overview]
, ...6 more...
)
-
Tag
(
type: esriFieldTypeString, alias: Tag, length: 100
)
-
GroupName
(
type: esriFieldTypeString, alias: GroupName, length: 100
)
-
ProductName
(
type: esriFieldTypeString, alias: ProductName, length: 100
)
-
CenterX
(
type: esriFieldTypeDouble, alias: CenterX
)
-
CenterY
(
type: esriFieldTypeDouble, alias: CenterY
)
-
ZOrder
(
type: esriFieldTypeInteger, alias: ZOrder
)
-
Shape_Length
(
type: esriFieldTypeDouble, alias: Shape_Length
)
-
Shape_Area
(
type: esriFieldTypeDouble, alias: Shape_Area
)
Default Mosaic Method: Northwest
Allowed Mosaic Methods: NorthWest,Center,LockRaster,ByAttribute,Nadir,Viewpoint,Seamline,None
SortField:
SortValue: null
Mosaic Operator: First
Default Compression Quality: 75
Default Resampling Method: Bilinear
Max Record Count: 1000
Max Image Height: 4100
Max Image Width: 15000
Max Download Image Count: 20
Max Mosaic Image Count: 20
Allow Raster Function: true
Allow Copy: true
Allow Analysis: true
Allow Compute TiePoints: false
Supports Statistics: true
Supports Advanced Queries: true
Use StandardizedQueries: true
Raster Type Infos:
Name: Raster Dataset
Description: Supports all ArcGIS Raster Datasets
Help:
Has Raster Attribute Table: true
Edit Fields Info: null
Ownership Based AccessControl For Rasters: null
Child Resources:
Info
Raster Attribute Table
Histograms
Statistics
Key Properties
Legend
Raster Function Infos
Supported Operations:
Export Image
Query
Identify
Download Rasters
Measure
Compute Histograms
Compute Statistics Histograms
Get Samples
Compute Class Statistics
Query Boundary
Compute Pixel Location
Compute Angles
Validate
Project