View In:
ArcGIS JavaScript
ArcGIS Online Map Viewer
ArcGIS Earth
ArcMap
View Footprint In:
ArcGIS Online Map Viewer
Service Description: The Criterion 1: Biodiversity values v1.0 raster (250 m resolution) represents relative across terrestrial Australia, categorised into percentile-based thresholds that highlight areas of comparatively higher biodiversity importance. This layer was generated using a reproducible MCDA workflow implemented in Python and ArcGIS Pro. The workflow includes: Criterion 1: Integrated species diversity, endemism, threatened species and ecosystems, habitat connectivity, and ecosystem services. Inputs included national biodiversity datasets and ecological integrity indicators (e.g. Habitat Condition Assessment System (HCAS), National Connectivity Index (NCI) The final raster reflects areas where this criterion is met with scores out of 1000 and protected areas masked (assigned value of 4000). Higher scores (between 0 to 1000) equate to areas with higher biodiversity values. Identifying biodiversity value and potential to enhance the representativeness of Australia’s Protected Areas using Multi-Criteria Decision Analysis Version 1.0. that describes the data and methods is available at: https://erin.maps.arcgis.com/home/item.html?id=6510ec40d81c43cda8d44e86b81adce2Criterion 1 Inputs: 1. Species diversity Plant diversity spatial layers for Australia (250m) Community-level diversity layers for Australia - Bird Richness, Reptile Richness and Fungi Richness (250m) 2. Regional endemismSpecies of National Environmental Significance – GDB (1km) Interim Biogeographic Regionalisation for Australia - Subregion 3. Habitat for threatened ecological communities and threatened and migratory speciesDensity of indicative threatened ecological community distributions (1km) Density of threatened and migratory species habitat distributions (1km) 4. Severely threatened species and ecological communities Species of National Environmental Significance – GDB (1km) Ecological Communities of National Environmental Significance Distributions– GDB (1km) 5. Ecosystem servicesHCAS Optimised SLGA Products - Available Volumetric Water Capacity to 1m (250m) HCAS Optimised SLGA Products Topsoil & Subsoil Aggregated Soil Attribute Surfaces for Total nitrogen, Total phosphorous and Soil organic carbon (250m) 6. Habitat condition and connectivityHabitat Condition Assessment System (HCAS) 1988 to 2024 (90m) National Connectivity Index (NCI) 1988 to 2024 (90m) Caveats The analysis only uses national data, which may have variable quality and availability across the country. Some of this data is derived from models with their own inherent uncertainty and levels of accuracy that should be considered when using this output. Outputs of this analysis should be considered alongside regional and/or local scale information, particularly when incorporated in the decision-making process. Species distribution models were used to derive multiple input datasets used in this analysis (e.g. species density and regional endemism). These datasets represent different information and use different methodology to derive results. This analysis uses the published Collaborative Australian Protected Areas Database 2024, which does not include areas protected since 30 June 2024. There are caveats associated with the datasets used in this analysis. Please refer to individual datasets for further information.
Name: biodiversity/Criterion_1_Biodiversity_values_v1
Description: The Criterion 1: Biodiversity values v1.0 raster (250 m resolution) represents relative across terrestrial Australia, categorised into percentile-based thresholds that highlight areas of comparatively higher biodiversity importance. This layer was generated using a reproducible MCDA workflow implemented in Python and ArcGIS Pro. The workflow includes: Criterion 1: Integrated species diversity, endemism, threatened species and ecosystems, habitat connectivity, and ecosystem services. Inputs included national biodiversity datasets and ecological integrity indicators (e.g. Habitat Condition Assessment System (HCAS), National Connectivity Index (NCI) The final raster reflects areas where this criterion is met with scores out of 1000 and protected areas masked (assigned value of 4000). Higher scores (between 0 to 1000) equate to areas with higher biodiversity values. Identifying biodiversity value and potential to enhance the representativeness of Australia’s Protected Areas using Multi-Criteria Decision Analysis Version 1.0. that describes the data and methods is available at: https://erin.maps.arcgis.com/home/item.html?id=6510ec40d81c43cda8d44e86b81adce2Criterion 1 Inputs: 1. Species diversity Plant diversity spatial layers for Australia (250m) Community-level diversity layers for Australia - Bird Richness, Reptile Richness and Fungi Richness (250m) 2. Regional endemismSpecies of National Environmental Significance – GDB (1km) Interim Biogeographic Regionalisation for Australia - Subregion 3. Habitat for threatened ecological communities and threatened and migratory speciesDensity of indicative threatened ecological community distributions (1km) Density of threatened and migratory species habitat distributions (1km) 4. Severely threatened species and ecological communities Species of National Environmental Significance – GDB (1km) Ecological Communities of National Environmental Significance Distributions– GDB (1km) 5. Ecosystem servicesHCAS Optimised SLGA Products - Available Volumetric Water Capacity to 1m (250m) HCAS Optimised SLGA Products Topsoil & Subsoil Aggregated Soil Attribute Surfaces for Total nitrogen, Total phosphorous and Soil organic carbon (250m) 6. Habitat condition and connectivityHabitat Condition Assessment System (HCAS) 1988 to 2024 (90m) National Connectivity Index (NCI) 1988 to 2024 (90m) Caveats The analysis only uses national data, which may have variable quality and availability across the country. Some of this data is derived from models with their own inherent uncertainty and levels of accuracy that should be considered when using this output. Outputs of this analysis should be considered alongside regional and/or local scale information, particularly when incorporated in the decision-making process. Species distribution models were used to derive multiple input datasets used in this analysis (e.g. species density and regional endemism). These datasets represent different information and use different methodology to derive results. This analysis uses the published Collaborative Australian Protected Areas Database 2024, which does not include areas protected since 30 June 2024. There are caveats associated with the datasets used in this analysis. Please refer to individual datasets for further information.
Single Fused Map Cache: false
Extent:
XMin: 1.2185125840300001E7
YMin: -5550303.5286
XMax: 1.75068758403E7
YMax: -955303.5285999998
Spatial Reference: 102100
(3857)
Initial Extent:
XMin: 1.2185125840300001E7
YMin: -5550303.5286
XMax: 1.75068758403E7
YMax: -955303.5285999998
Spatial Reference: 102100
(3857)
Full Extent:
XMin: 1.2185125840300001E7
YMin: -5550303.5286
XMax: 1.75068758403E7
YMax: -955303.5285999998
Spatial Reference: 102100
(3857)
Pixel Size X: 250.0
Pixel Size Y: 250.0
Band Count: 1
Pixel Type: U16
RasterFunction Infos: {"rasterFunctionInfos": [{
"name": "None",
"description": "",
"help": ""
}]}
Mensuration Capabilities: Basic
Has Histograms: true
Has Colormap: false
Has Multi Dimensions : false
Rendering Rule:
Min Scale: 0
Max Scale: 0
Copyright Text: Criterion 1: Biodiversity values v1.0: Australia are copyright (c) Commonwealth of Australia, Australian Government Department of Climate Change, Energy, Environment and Water, 2025.
Service Data Type: esriImageServiceDataTypeThematic
Min Values: 0
Max Values: 4000
Mean Values: 1119.631834325688
Standard Deviation Values: 1552.995514943614
Object ID Field: OBJECTID
Fields:
-
OBJECTID
(
type: esriFieldTypeOID, alias: OBJECTID
)
-
Shape
(
type: esriFieldTypeGeometry, alias: Shape
)
-
Name
(
type: esriFieldTypeString, alias: Name, length: 200
)
-
MinPS
(
type: esriFieldTypeDouble, alias: MinPS
)
-
MaxPS
(
type: esriFieldTypeDouble, alias: MaxPS
)
-
LowPS
(
type: esriFieldTypeDouble, alias: LowPS
)
-
HighPS
(
type: esriFieldTypeDouble, alias: HighPS
)
-
Category
(
type: esriFieldTypeInteger, alias: Category
, Coded Values:
[0: Unknown]
, [1: Primary]
, [2: Overview]
, ...6 more...
)
-
Tag
(
type: esriFieldTypeString, alias: Tag, length: 100
)
-
GroupName
(
type: esriFieldTypeString, alias: GroupName, length: 100
)
-
ProductName
(
type: esriFieldTypeString, alias: ProductName, length: 100
)
-
CenterX
(
type: esriFieldTypeDouble, alias: CenterX
)
-
CenterY
(
type: esriFieldTypeDouble, alias: CenterY
)
-
ZOrder
(
type: esriFieldTypeInteger, alias: ZOrder
)
-
Shape_Length
(
type: esriFieldTypeDouble, alias: Shape_Length
)
-
Shape_Area
(
type: esriFieldTypeDouble, alias: Shape_Area
)
Default Mosaic Method: Northwest
Allowed Mosaic Methods: NorthWest,Center,LockRaster,ByAttribute,Nadir,Viewpoint,Seamline,None
SortField:
SortValue: null
Mosaic Operator: First
Default Compression Quality: 75
Default Resampling Method: Bilinear
Max Record Count: 1000
Max Image Height: 4100
Max Image Width: 15000
Max Download Image Count: 20
Max Mosaic Image Count: 20
Allow Raster Function: true
Allow Copy: true
Allow Analysis: true
Allow Compute TiePoints: false
Supports Statistics: true
Supports Advanced Queries: true
Use StandardizedQueries: true
Raster Type Infos:
Name: Raster Dataset
Description: Supports all ArcGIS Raster Datasets
Help:
Has Raster Attribute Table: true
Edit Fields Info: null
Ownership Based AccessControl For Rasters: null
Child Resources:
Info
Raster Attribute Table
Histograms
Statistics
Key Properties
Legend
Raster Function Infos
Supported Operations:
Export Image
Query
Identify
Download Rasters
Measure
Compute Histograms
Compute Statistics Histograms
Get Samples
Compute Class Statistics
Query Boundary
Compute Pixel Location
Compute Angles
Validate
Project